BEGIN:VCALENDAR
VERSION:2.0
PRODID:-//wp-events-plugin.com//7.2.3.1//EN
TZID:America/New_York
X-WR-TIMEZONE:America/New_York
BEGIN:VEVENT
UID:275@newtonconservators.org
DTSTART;TZID=America/New_York;VALUE=DATE:20210212
DTEND;TZID=America/New_York;VALUE=DATE:20210216
DTSTAMP:20210214T003126Z
URL:https://newtonconservators.org/events/24th-annual-great-backyard-bird-
 count/
SUMMARY:24th Annual Great Backyard Bird Count
DESCRIPTION:For four days\, February 12th to 15th\, all bird lovers are enc
 ouraged to do what they do best…watch birds and count every bird they se
 e! It’s all part of the 24th Annual Great Backyard Bird Count\, a citize
 n-scientist event conducted by the Cornell Lab of Ornithology\, the Nation
 al Audubon Society and Birds Canada.  The event is co-sponsored by Wild B
 irds Unlimited.\n\nEveryone\, from beginning bird watchers to experts are 
 encouraged to count birds for as little as 15 minutes or as long as you wi
 sh on one or more of the four days during the event. Afterward\, submit yo
 ur count online at https://www.birdcount.org/ebird-on-computer/ or on your
  smartphone at https://www.birdcount.org/ebird-mobile-app/ .\n\nCount bird
 s at your feeders\, in a neighborhood park or anywhere you see birds. Ever
 y count submitted helps researchers learn more about bird populations\, su
 ch as where some species are thriving and where others may be on the decli
 ne. The counts give scientists up to the minute data on how birds nationwi
 de and worldwide are adapting to suburban sprawl\, climate change and othe
 r environment factors.\n\nAccording to Cornell Lab of Ornithology\, in the
  2020 count bird watchers from 193 countries submitted 268\,674 checklists
  and reported a record 6\,942 species\, which is more than half the known 
 bird species in the world!  Visit the count website at https://www.birdco
 unt.org/.\n\n&nbsp\;
ATTACH;FMTTYPE=image/jpeg:https://newtonconservators.org/wp-content/upload
 s/2019/11/segre-P3030173.jpg
CATEGORIES:Birding
END:VEVENT
BEGIN:VTIMEZONE
TZID:America/New_York
X-LIC-LOCATION:America/New_York
BEGIN:STANDARD
DTSTART:20201101T010000
TZOFFSETFROM:-0400
TZOFFSETTO:-0500
TZNAME:EST
END:STANDARD
END:VTIMEZONE
END:VCALENDAR