BEGIN:VCALENDAR
VERSION:2.0
PRODID:-//wp-events-plugin.com//7.2.3.1//EN
TZID:America/New_York
X-WR-TIMEZONE:America/New_York
BEGIN:VEVENT
UID:149@newtonconservators.org
DTSTART;TZID=America/New_York:20190907T100000
DTEND;TZID=America/New_York:20190907T120000
DTSTAMP:20190830T132604Z
URL:https://newtonconservators.org/events/adventures-in-monarchy-workshop/
SUMMARY:Monarch Butterfly Workshop and Walk
DESCRIPTION:Monarch Butterflies are beautiful and amazing creatures but are
  not as abundant these days due to lack of suitable milkweed for their egg
 -laying and as a caterpillar food source.  Learn about different types of
  milkweed to sustain them -  we will have seeds and a limited number of m
 ilkweed plants available.  Did you know that you can help grow their popu
 lation by planting milkweed\, collecting monarch eggs and raising the resu
 lting caterpillars in a protected environment and then watch them turn to 
 chrysalis and emerge as a butterfly for release?   Learn how to care for
  eggs\, caterpillars\, chrysalis'\, and even how to tag monarchs for their
  fall migratory journey to Mexico.\n\nThe workshop will be at 10 am at the
  Newton Conservators tent at the Elm Street Farmer’s Market (Elm and Was
 hington Streets\, West Newton).  A butterfly walk\, leaving the market at
  11 am\, will visit several nearby monarch butterfly and pollinator garden
 s including one at Wellington Park.     This free workshop is sponsored
  by the Newton Conservators ( Contact Ted Kuklinski\, president@newtoncons
 ervators.org\, 617-763-3470).  Come and pick up some farmer's market good
 ies at the same time!\n\n[caption id="attachment_5061" align="alignleft" w
 idth="300"] Photo by Sue Avery[/caption]
ATTACH;FMTTYPE=image/jpeg:https://newtonconservators.org/wp-content/upload
 s/2019/06/monarch-kuklinski.jpg
CATEGORIES:Special Events
LOCATION:West Newton Farmer's Market\, 199 Elm Street\, Newton\, MA\, Unite
 d States
GEO:42.3486728;-71.22899310000003
X-APPLE-STRUCTURED-LOCATION;VALUE=URI;X-ADDRESS=199 Elm Street\, Newton\, M
 A\, United States;X-APPLE-RADIUS=100;X-TITLE=West Newton Farmer's Market:g
 eo:42.3486728,-71.22899310000003
END:VEVENT
BEGIN:VTIMEZONE
TZID:America/New_York
X-LIC-LOCATION:America/New_York
BEGIN:DAYLIGHT
DTSTART:20190310T030000
TZOFFSETFROM:-0500
TZOFFSETTO:-0400
TZNAME:EDT
END:DAYLIGHT
END:VTIMEZONE
END:VCALENDAR