BEGIN:VCALENDAR
VERSION:2.0
PRODID:-//wp-events-plugin.com//7.2.3.1//EN
TZID:America/New_York
X-WR-TIMEZONE:America/New_York
BEGIN:VEVENT
UID:164@newtonconservators.org
DTSTART;TZID=America/New_York:20191026T090000
DTEND;TZID=America/New_York:20191026T120000
DTSTAMP:20190826T110148Z
URL:https://newtonconservators.org/events/bedrock-geology-of-newton-and-ad
 jacent-areas/
SUMMARY:Bedrock Geology of Newton and Adjacent Areas
DESCRIPTION:The bedrock geology of the Newton area tells a fascinating stor
 y of a time about 585 million years ago when Newton was part of the great 
 southern continent of Gondwana and not far from the South Pole.  The rock
 s record a history of great volcanic eruptions and sedimentary basin depos
 its (the famous puddingstone!) in areas between the volcanoes.  Join us a
 nd learn a bit about how the rocks tell us their story.\n\nThis trip will 
 not be one of the usual Conservator “walks” since we will need to carp
 ool to travel to different sites in and around Newton to see the different
  rock types. If there is time and interest we may choose to go a bit beyon
 d Newton to view rocks within a volcanic caldera from that time.\n\nMeet i
 n the parking lot of the Hammond Pond DCR Reservation\, at the west end of
  Hammond Pond off of Hammond Pond Parkway near Rt. 9\, behind the movie th
 eatre at “The Street” complex. We will first visit rocks in the woods 
 near here and then carpool to the other exposures.\n\nTrip will last ~3 ho
 urs.  If there is moderate rain or worse\, the trip will be cancelled.  
 You can call the leader the evening before if in doubt. Most stops are cl
 ose to a road\, but at one stop we will walk a few hundred yards into the 
 woods and there is a bit of scrambling to reach the exposure.\n\nTrip Lead
 er: Chris Hepburn\, 617-964-1137
ATTACH;FMTTYPE=image/jpeg:https://newtonconservators.org/wp-content/upload
 s/2019/08/Chris-Hepburn-Geology-walk-photo.jpg
CATEGORIES:Guided Walks
LOCATION:Hammond Pond Reservation\, Hammond Pond Reservation\, Newton\, MA\
 , United States
GEO:42.322019;-71.172981
X-APPLE-STRUCTURED-LOCATION;VALUE=URI;X-ADDRESS=Hammond Pond Reservation\, 
 Newton\, MA\, United States;X-APPLE-RADIUS=100;X-TITLE=Hammond Pond Reserv
 ation:geo:42.322019,-71.172981
END:VEVENT
BEGIN:VTIMEZONE
TZID:America/New_York
X-LIC-LOCATION:America/New_York
BEGIN:DAYLIGHT
DTSTART:20190310T030000
TZOFFSETFROM:-0500
TZOFFSETTO:-0400
TZNAME:EDT
END:DAYLIGHT
END:VTIMEZONE
END:VCALENDAR