BEGIN:VCALENDAR
VERSION:2.0
PRODID:-//wp-events-plugin.com//7.2.3.1//EN
TZID:America/New_York
X-WR-TIMEZONE:America/New_York
BEGIN:VEVENT
UID:205@newtonconservators.org
DTSTART;TZID=America/New_York:20200516T080000
DTEND;TZID=America/New_York:20200516T100000
DTSTAMP:20200330T022356Z
URL:https://newtonconservators.org/events/bird-walk-along-charles-river-pa
 thway/
SUMMARY:CANCELLED--Bird Walk Along Charles River Pathway
DESCRIPTION:\n\n\n\nPlease join Alison Leary for a neighborhood bird walk a
 long the Charles River Path to enjoy the sights and sounds of the river\, 
 including new spring migrants.We will look for seasonal migrants as we str
 oll the Charles River path along the Newton/Watertown line.\n\nWe expect t
 o find several species of warblers\, including Yellow\, Northern Parula\,Y
 ellow-rumped Warblers and Palms. Length: About 3 miles at an easy pace.\n\
 nBring binoculars if you have them. In the event of steady rain\, we will 
 rechedule for Sunday\, May 17.\n\nMeeting place: Path entrance at Chapel a
 nd California Street.\n\nTrip Leader: Alison Leary\, 617-821-5619\n\n\n\n
ATTACH;FMTTYPE=image/jpeg:https://newtonconservators.org/wp-content/upload
 s/2019/03/19_03_birdwalk2.jpg
LOCATION:Entrance to Charles River Pathway\, Chapel and California Streets\
 , Newton\, MA\, United States
GEO:42.36509;-71.202484
X-APPLE-STRUCTURED-LOCATION;VALUE=URI;X-ADDRESS=Chapel and California Stree
 ts\, Newton\, MA\, United States;X-APPLE-RADIUS=100;X-TITLE=Entrance to Ch
 arles River Pathway:geo:42.36509,-71.202484
END:VEVENT
BEGIN:VTIMEZONE
TZID:America/New_York
X-LIC-LOCATION:America/New_York
BEGIN:DAYLIGHT
DTSTART:20200308T030000
TZOFFSETFROM:-0500
TZOFFSETTO:-0400
TZNAME:EDT
END:DAYLIGHT
END:VTIMEZONE
END:VCALENDAR