BEGIN:VCALENDAR
VERSION:2.0
PRODID:-//wp-events-plugin.com//7.2.3.1//EN
TZID:America/New_York
X-WR-TIMEZONE:America/New_York
BEGIN:VEVENT
UID:502@newtonconservators.org
DTSTART;TZID=America/New_York:20231022T080000
DTEND;TZID=America/New_York:20231022T100000
DTSTAMP:20231020T204554Z
URL:https://newtonconservators.org/events/birding-at-cold-spring-park-5/
SUMMARY:CANCELED-Birding at Cold Spring Park
DESCRIPTION:This event has been cancelled due to rain. We apologize for the
  inconvenience!
ATTACH;FMTTYPE=image/jpeg:https://newtonconservators.org/wp-content/upload
 s/2021/09/GilmoreDownyWoodpecker-copy.jpg
LOCATION:Cold Spring Park Beacon Street trailhead\, 1200 Beacon Street\, Wa
 ban\, MA\, 02468\, United States
GEO:42.331113;-71.213272
X-APPLE-STRUCTURED-LOCATION;VALUE=URI;X-ADDRESS=1200 Beacon Street\, Waban\
 , MA\, 02468\, United States;X-APPLE-RADIUS=100;X-TITLE=Cold Spring Park B
 eacon Street trailhead:geo:42.331113,-71.213272
END:VEVENT
BEGIN:VTIMEZONE
TZID:America/New_York
X-LIC-LOCATION:America/New_York
BEGIN:DAYLIGHT
DTSTART:20230312T030000
TZOFFSETFROM:-0500
TZOFFSETTO:-0400
TZNAME:EDT
END:DAYLIGHT
END:VTIMEZONE
END:VCALENDAR