BEGIN:VCALENDAR
VERSION:2.0
PRODID:-//wp-events-plugin.com//7.2.3.1//EN
TZID:America/New_York
X-WR-TIMEZONE:America/New_York
BEGIN:VEVENT
UID:527@newtonconservators.org
DTSTART;TZID=America/New_York:20240504T080000
DTEND;TZID=America/New_York:20240504T100000
DTSTAMP:20240306T005932Z
URL:https://newtonconservators.org/events/birding-at-cold-spring-park-6/
SUMMARY:Spring Birding at Cold Spring Park
DESCRIPTION:Participants will meet near the turnaround at the end of the le
 ft side of the Beacon Street parking area. This is an easy walk on flat wo
 odland trails. We will look for resident birds as well as spring migrants.
  Beginners and children are welcome!  Trip Leader: Pete Gilmore\, (petegi
 lmore79@gmail.com)
ATTACH;FMTTYPE=image/jpeg:https://newtonconservators.org/wp-content/upload
 s/2019/08/Petes-Bird-walk-2018-spring.jpeg
CATEGORIES:Birding,Guided Walks
LOCATION:Cold Spring Park Beacon Street trailhead\, 1200 Beacon Street\, Wa
 ban\, MA\, 02468\, United States
GEO:42.331113;-71.213272
X-APPLE-STRUCTURED-LOCATION;VALUE=URI;X-ADDRESS=1200 Beacon Street\, Waban\
 , MA\, 02468\, United States;X-APPLE-RADIUS=100;X-TITLE=Cold Spring Park B
 eacon Street trailhead:geo:42.331113,-71.213272
END:VEVENT
BEGIN:VTIMEZONE
TZID:America/New_York
X-LIC-LOCATION:America/New_York
BEGIN:DAYLIGHT
DTSTART:20240310T030000
TZOFFSETFROM:-0500
TZOFFSETTO:-0400
TZNAME:EDT
END:DAYLIGHT
END:VTIMEZONE
END:VCALENDAR