BEGIN:VCALENDAR
VERSION:2.0
PRODID:-//wp-events-plugin.com//7.2.3.1//EN
TZID:America/New_York
X-WR-TIMEZONE:America/New_York
BEGIN:VEVENT
UID:375@newtonconservators.org
DTSTART;TZID=America/New_York:20220622T183000
DTEND;TZID=America/New_York:20220622T194500
DTSTAMP:20220622T180247Z
URL:https://newtonconservators.org/events/building-resilience-in-the-water
 shed/
SUMMARY:Building Resilience in the Watershed
DESCRIPTION:Check out this virtual webinar to learn how Charles River Water
 shed Association\, Weston &amp\; Sampson\, and 20 watershed communities ar
 e using the Charles River Flood Model to predict flooding impacts of futur
 e storms and test flood mitigation solutions that can protect our communit
 ies from flooding.  Register to learn about this project and see the resu
 lts.  Learn about flooding in Newton and what you can do to help.\n\nRegi
 ster at bit.ly/3xm5ef4\n\nExplore the full project at www.crwa.org/watersh
 ed-model\n\nSponsored by Charles River Watershed Association.\n\n&nbsp\;\n
 \n&nbsp\;\n\n&nbsp\;
ATTACH;FMTTYPE=image/jpeg:https://newtonconservators.org/wp-content/upload
 s/2021/01/Charles-River-Watershed.jpg
CATEGORIES:Meetings,Online Event,Webinar
END:VEVENT
BEGIN:VTIMEZONE
TZID:America/New_York
X-LIC-LOCATION:America/New_York
BEGIN:DAYLIGHT
DTSTART:20220313T030000
TZOFFSETFROM:-0500
TZOFFSETTO:-0400
TZNAME:EDT
END:DAYLIGHT
END:VTIMEZONE
END:VCALENDAR