BEGIN:VCALENDAR
VERSION:2.0
PRODID:-//wp-events-plugin.com//7.2.3.1//EN
TZID:America/New_York
X-WR-TIMEZONE:America/New_York
BEGIN:VEVENT
UID:520@newtonconservators.org
DTSTART;TZID=America/New_York:20240420T100000
DTEND;TZID=America/New_York:20240420T120000
DTSTAMP:20240203T131247Z
URL:https://newtonconservators.org/events/charles-river-cleanup/
SUMMARY:Charles River Cleanup
DESCRIPTION:Help volunteers organized by the Charles River Watershed Associ
 ation clean up the Charles River on Earth Day.  Clean-up work will be don
 e at multiple locations along the river in Newton and other communities.
ATTACH;FMTTYPE=image/jpeg:https://newtonconservators.org/wp-content/upload
 s/2018/10/P1140311_2.jpg
CATEGORIES:Cleanup and Trail Work,CRWA Events
END:VEVENT
BEGIN:VTIMEZONE
TZID:America/New_York
X-LIC-LOCATION:America/New_York
BEGIN:DAYLIGHT
DTSTART:20240310T030000
TZOFFSETFROM:-0500
TZOFFSETTO:-0400
TZNAME:EDT
END:DAYLIGHT
END:VTIMEZONE
END:VCALENDAR