BEGIN:VCALENDAR
VERSION:2.0
PRODID:-//wp-events-plugin.com//7.2.3.1//EN
TZID:America/New_York
X-WR-TIMEZONE:America/New_York
BEGIN:VEVENT
UID:522@newtonconservators.org
DTSTART;TZID=America/New_York:20240411T190000
DTEND;TZID=America/New_York:20240411T203000
DTSTAMP:20240213T201529Z
URL:https://newtonconservators.org/events/coexisting-with-coyotes-in-subur
 ban-communities/
SUMMARY:Coexisting with Coyotes in Suburban Communities
DESCRIPTION:Eastern coyotes are found in nearly every town and city in Mass
 achusetts\, and they can thrive close to humans in a variety of habitats. 
 Join this webinar to learn about eastern coyote biology\, how coyotes use 
 suburban areas\, and how communities like Newton can take effective steps 
 to coexist with coyotes. This talk will be presented by MassWildlife’s B
 lack Bear and Furbearer Biologist\, Dave Wattles\, PhD.\nDave has been stu
 dying and working with large mammals in Massachusetts since 2006 when he b
 egan collaring and studying moose for his graduate work at UMass Amherst. 
 He has 15 years of experience conducting black bear research and has been 
 the Black Bear and Furbearer Biologist with the Massachusetts Division of 
 Fisheries and Wildlife (MassWildlife) since 2016.\nSign Up:  https://bit.
 ly/4bAcKqc
ATTACH;FMTTYPE=image/jpeg:https://newtonconservators.org/wp-content/upload
 s/2024/02/Coyote-in-Grass_BillB-copy-2-1-scaled.jpeg
CATEGORIES:Webinar
END:VEVENT
BEGIN:VTIMEZONE
TZID:America/New_York
X-LIC-LOCATION:America/New_York
BEGIN:DAYLIGHT
DTSTART:20240310T030000
TZOFFSETFROM:-0500
TZOFFSETTO:-0400
TZNAME:EDT
END:DAYLIGHT
END:VTIMEZONE
END:VCALENDAR