BEGIN:VCALENDAR
VERSION:2.0
PRODID:-//wp-events-plugin.com//7.2.3.1//EN
TZID:America/New_York
X-WR-TIMEZONE:America/New_York
BEGIN:VEVENT
UID:396@newtonconservators.org
DTSTART;TZID=America/New_York:20230129T100000
DTEND;TZID=America/New_York:20230129T110000
DTSTAMP:20230128T043500Z
URL:https://newtonconservators.org/events/cold-spring-park-guided-winter-w
 alk-winterfest-2023/
SUMMARY:Cold Spring Park Guided Winter Walk - WinterFEST 2023
DESCRIPTION:Sunday\, January 29\n10:00 am-11:00 am\nCold Spring Park\, 120
 0 Beacon St\, Newton\, MA\n\nJoin in a special FREE Guided Winter Walk wit
 h the Newton Conservators as part of NewtonCommunityPRIDE's annual WinterF
 EST celebration.  Barbara Bates and Sam Corbin\, who have organized our s
 pring and fall kid's nature events\, will be leading the walk.  There wil
 l be a special guest (Olaf)\, Hot Chocolate\, and Treats!  Please meet at
  10:00 AM at the 1200 Beacon Street entrance and proceed around toward the
  left at the trail entrance near the sports fields.  Dress warm for the w
 eather!  Check out the other WinterFEST events on the Newton Community P
 ride WinterFEST page:   https://newtoncommunitypride.org/winterfest/\n\n
 \nFollow up the walk from 12 to 4 pm at Newton Centre Green:\n\n\nSunday\,
  January 29\n12:00 pm -4:00 pm\nNewton Centre Green\, 1221 Centre St\, Ne
 wton Centre\n\n\n\n 	Ice Sculptures &amp\; Live Demonstration by Images I
 n Ice\n 	Winter Market\n 	Performances: Elsa from Frozen\, Lion Dance by 
 Wu An Marital Arts\, Calpulli Coyoxochitl Dance Group of Newton\,\n 	Far a
 nd Wide with Tom Pugh\, “Women in White” roving dancers\, A Capella f
 rom Newton North’s Melocotones and Northern Lights\n 	Special Guests: Ol
 af and Friends and Officer Leo the super pup\n 	Free hot chocolate provide
 d by The Trike\n 	Photo Booth by Wicked Booth\nWinter Blanket Collection
  Drive*\n\n\n *NCP has partnered with Welcome Home\, a Newton non-profit
  providing families experiencing hardship with high-quality household item
 s.  Please bring new or gently used full\, queen or king blankets (no rip
 s or stains please) to the Newton Centre Green and drop off at the Welcome
  Home table during WinterFEST hours.\n&nbsp\;\n\n\n\nAnd be sure to check 
 out what is happening in WinterFEST the day before on Saturday at the Hyde
  Community Center:\n\nSaturday\, January 28\n5:30 pm – 7:30 pm\nHyde Com
 munity Center\, 90 Lincoln Street\, Newton Highlands\n\n\n\n5:30 pm – 7
 :30 pm\nSoup Social\, with soup donated by local restaurants and served by
  Newton notables\nHot Chocolate &amp\; Cookies\n\n\n\n\n6:30 pm- 7:30 pm\n
 Eli Cash Band\nOlaf and Friends\, Glow in the Dark Hula Hooping\, Glow Sti
 ck fun\, and Brighter Ignited Interactive Public Art Work\, Jewish Arts C
 ollaborative!\n\n\n&nbsp\;\n\n\n
ATTACH;FMTTYPE=image/jpeg:https://newtonconservators.org/wp-content/upload
 s/2023/01/WinterFEST-Walk.jpg
CATEGORIES:Guided Walks,Special Events
LOCATION:Cold Spring Park Beacon Street trailhead\, 1200 Beacon Street\, Wa
 ban\, MA\, 02468\, United States
GEO:42.331113;-71.213272
X-APPLE-STRUCTURED-LOCATION;VALUE=URI;X-ADDRESS=1200 Beacon Street\, Waban\
 , MA\, 02468\, United States;X-APPLE-RADIUS=100;X-TITLE=Cold Spring Park B
 eacon Street trailhead:geo:42.331113,-71.213272
END:VEVENT
BEGIN:VTIMEZONE
TZID:America/New_York
X-LIC-LOCATION:America/New_York
BEGIN:STANDARD
DTSTART:20221106T010000
TZOFFSETFROM:-0400
TZOFFSETTO:-0500
TZNAME:EST
END:STANDARD
END:VTIMEZONE
END:VCALENDAR