BEGIN:VCALENDAR
VERSION:2.0
PRODID:-//wp-events-plugin.com//7.2.3.1//EN
TZID:America/New_York
X-WR-TIMEZONE:America/New_York
BEGIN:VEVENT
UID:458@newtonconservators.org
DTSTART;TZID=America/New_York:20230624T093000
DTEND;TZID=America/New_York:20230624T120000
DTSTAMP:20230618T024802Z
URL:https://newtonconservators.org/events/cold-spring-park-invasives-pull-
 19/
SUMMARY:Cold Spring Park Invasives\, Pollinator Garden Maintenance
DESCRIPTION:Cold Spring Park is being invaded by garlic mustard\, knotweed\
 , buckthorn\, and other species. We will continue our work on invasives fr
 om 9:30 to 11\, then from 11 to 12 we will weed and maintain the Pollinato
 r Garden at the Beacon St entrance.  Wear long pants and garden gloves. T
 he invasive plant material will be properly disposed of as trash\, not as 
 yard waste.\n\nMeet at the kiosk at the entrance to the walking trail - fr
 om Beacon St entrance\, left to the circle at the end of the parking lot.\
 n\nLeaders are Alan Nogee\, 617-821-1265 and Katherine Howard\, 617-721-25
 71.
ATTACH;FMTTYPE=image/jpeg:https://newtonconservators.org/wp-content/upload
 s/2018/11/0006.jpg
CATEGORIES:Invasive Species Pulls
LOCATION:Cold Spring Park Beacon Street trailhead\, 1200 Beacon Street\, Wa
 ban\, MA\, 02468\, United States
GEO:42.331113;-71.213272
X-APPLE-STRUCTURED-LOCATION;VALUE=URI;X-ADDRESS=1200 Beacon Street\, Waban\
 , MA\, 02468\, United States;X-APPLE-RADIUS=100;X-TITLE=Cold Spring Park B
 eacon Street trailhead:geo:42.331113,-71.213272
END:VEVENT
BEGIN:VTIMEZONE
TZID:America/New_York
X-LIC-LOCATION:America/New_York
BEGIN:DAYLIGHT
DTSTART:20230312T030000
TZOFFSETFROM:-0500
TZOFFSETTO:-0400
TZNAME:EDT
END:DAYLIGHT
END:VTIMEZONE
END:VCALENDAR