BEGIN:VCALENDAR
VERSION:2.0
PRODID:-//wp-events-plugin.com//7.2.3.1//EN
TZID:America/New_York
X-WR-TIMEZONE:America/New_York
BEGIN:VEVENT
UID:181@newtonconservators.org
DTSTART;TZID=America/New_York:20191106T190000
DTEND;TZID=America/New_York:20191106T210000
DTSTAMP:20191017T132420Z
URL:https://newtonconservators.org/events/community-preservation-committee
 -public-hearing-on-webster-woods/
SUMMARY:Community Preservation Committee Public Hearing on Webster Woods
DESCRIPTION:
ATTACH;FMTTYPE=image/jpeg:https://newtonconservators.org/wp-content/upload
 s/2019/10/19Oct7-WebsterWoods-taking-.jpg
CATEGORIES:Meetings
LOCATION:Newton City Hall\, 1000 Commonwealth Avenue\, Newton\, MA\, United
  States
GEO:42.3374309;-71.20885650000002
X-APPLE-STRUCTURED-LOCATION;VALUE=URI;X-ADDRESS=1000 Commonwealth Avenue\, 
 Newton\, MA\, United States;X-APPLE-RADIUS=100;X-TITLE=Newton City Hall:ge
 o:42.3374309,-71.20885650000002
END:VEVENT
BEGIN:VTIMEZONE
TZID:America/New_York
X-LIC-LOCATION:America/New_York
BEGIN:STANDARD
DTSTART:20191103T010000
TZOFFSETFROM:-0400
TZOFFSETTO:-0500
TZNAME:EST
END:STANDARD
END:VTIMEZONE
END:VCALENDAR