BEGIN:VCALENDAR
VERSION:2.0
PRODID:-//wp-events-plugin.com//7.2.3.1//EN
TZID:America/New_York
X-WR-TIMEZONE:America/New_York
BEGIN:VEVENT
UID:563@newtonconservators.org
DTSTART;TZID=America/New_York:20240630T130000
DTEND;TZID=America/New_York:20240630T150000
DTSTAMP:20240611T010116Z
URL:https://newtonconservators.org/events/crystal-lake-centre-street-invas
 ives-pull-4/
SUMMARY:Crystal Lake/Centre Street Invasives Pull
DESCRIPTION:We will work at the city's small pocket park along Centre St ju
 st outside of Newton Center\, next to the house at 1429 Centre St.  Wear 
 long pants and garden gloves. Some tools and gloves are available but brin
 g your own digging tool and loppers if you can.    Leader is Katherine H
 oward\, 617-721-2571.
ATTACH;FMTTYPE=image/jpeg:https://newtonconservators.org/wp-content/upload
 s/2018/10/shorefall800.jpg
CATEGORIES:Invasive Species Pulls
LOCATION:Centre St near 1429 Centre\, 1429 Centre St\, Newton\, MA\, 02459\
 , United States
GEO:42.3258507;-71.19900580000001
X-APPLE-STRUCTURED-LOCATION;VALUE=URI;X-ADDRESS=1429 Centre St\, Newton\, M
 A\, 02459\, United States;X-APPLE-RADIUS=100;X-TITLE=Centre St near 1429 C
 entre:geo:42.3258507,-71.19900580000001
END:VEVENT
BEGIN:VTIMEZONE
TZID:America/New_York
X-LIC-LOCATION:America/New_York
BEGIN:DAYLIGHT
DTSTART:20240310T030000
TZOFFSETFROM:-0500
TZOFFSETTO:-0400
TZNAME:EDT
END:DAYLIGHT
END:VTIMEZONE
END:VCALENDAR