BEGIN:VCALENDAR
VERSION:2.0
PRODID:-//wp-events-plugin.com//7.2.3.1//EN
TZID:America/New_York
X-WR-TIMEZONE:America/New_York
BEGIN:VEVENT
UID:303@newtonconservators.org
DTSTART;TZID=America/New_York:20210626T093000
DTEND;TZID=America/New_York:20210626T120000
DTSTAMP:20210611T155841Z
URL:https://newtonconservators.org/events/dexter-woods-work-session/
SUMMARY:Dexter Woods work session - 10 people needed
DESCRIPTION:Help care for Newton Conservators' pocket park on Dexter Rd nea
 r NNHS.  Our new plantings there are doing very well\, but are being shad
 ed and suffocated by a variety of aggressive and invasive plants.  We wil
 l cut back Norway maple sprouts\, remove invasive honeysuckle and burning 
 bush\, cut back the pokeweed (native\, but growing way too aggressively)\,
  and water and tend our mini habitat.  The slope is steep so wear sturdy 
 shoes\; or you can work at the street level. Wear long pants and garden g
 loves.  Bring pruners and loppers if you have them (we have some extras).
   If not vaccinated please wear mask.\n\nLeader is Katherine Howard\, 617
 -721-2571.  Please register if you would like to help\; we've set a maxim
 um of 10 people due to the terrain.
ATTACH;FMTTYPE=image/jpeg:https://newtonconservators.org/wp-content/upload
 s/2021/05/Kalmia-latifolia-14677_C798-1201063gk-original-MBG.jpeg
CATEGORIES:Cleanup and Trail Work
LOCATION:Dexter Woods\, 25 Dexter Rd\, Newton\, MA\, 02460\, United States
GEO:42.342909;-71.20735
X-APPLE-STRUCTURED-LOCATION;VALUE=URI;X-ADDRESS=25 Dexter Rd\, Newton\, MA\
 , 02460\, United States;X-APPLE-RADIUS=100;X-TITLE=Dexter Woods:geo:42.342
 909,-71.20735
END:VEVENT
BEGIN:VTIMEZONE
TZID:America/New_York
X-LIC-LOCATION:America/New_York
BEGIN:DAYLIGHT
DTSTART:20210314T030000
TZOFFSETFROM:-0500
TZOFFSETTO:-0400
TZNAME:EDT
END:DAYLIGHT
END:VTIMEZONE
END:VCALENDAR