BEGIN:VCALENDAR
VERSION:2.0
PRODID:-//wp-events-plugin.com//7.2.3.1//EN
TZID:America/New_York
X-WR-TIMEZONE:America/New_York
BEGIN:VEVENT
UID:405@newtonconservators.org
DTSTART;TZID=America/New_York:20230611T100000
DTEND;TZID=America/New_York:20230611T120000
DTSTAMP:20230610T193335Z
URL:https://newtonconservators.org/events/exploring-hemlock-gorge-co-spons
 ored-by-the-friends-of-hemlock-gorge/
SUMMARY:Exploring Hemlock Gorge - Co-sponsored by the Friends of Hemlock Go
 rge
DESCRIPTION:Join us for a tour of this gem of a park\, "hidden" at the inte
 rsection of Rtes 9 and 95\, once a Sunday destination for thousands of Bos
 ton city dwellers\, and designed by Charles Eliot of the Olmsted design fi
 rm.  We will visit the historic Echo Bridge\, talk some history and geolo
 gy\, and enjoy the stunning topography and views.  The walk includes some
  steep slopes and uneven terrain.   Meet at the Hamilton Place entrance/l
 ot off Central Ave (on the Needham side of the Charles River).  (There ar
 e only a few parking spots at Hamilton Place\, so we recommend parking in 
 the Mills Falls lot at the intersection of Chestnut and Elliot Streets.  
 If you enter that lot from Elliot Street\, it is only a couple of minutes 
 walk to our meeting.)  In the event of steady rain\, the rain date is Sun
 day June 25 10-12.\n\nTrip Leaders:  John Mordes MD\, president of Friend
 s of Hemlock Gorge (617 888 4488)\, and Katherine Howard of Newton Conserv
 ators (617 721 2571).
ATTACH;FMTTYPE=image/jpeg:https://newtonconservators.org/wp-content/upload
 s/2018/12/echobridge.jpg
CATEGORIES:Guided Walks
LOCATION:Hemlock Gorge - Needham entrance\, Hamilton Place\, Needham\, MA\,
  United States
GEO:42.312939;-71.22787519999997
X-APPLE-STRUCTURED-LOCATION;VALUE=URI;X-ADDRESS=Hamilton Place\, Needham\, 
 MA\, United States;X-APPLE-RADIUS=100;X-TITLE=Hemlock Gorge - Needham entr
 ance:geo:42.312939,-71.22787519999997
END:VEVENT
BEGIN:VTIMEZONE
TZID:America/New_York
X-LIC-LOCATION:America/New_York
BEGIN:DAYLIGHT
DTSTART:20230312T030000
TZOFFSETFROM:-0500
TZOFFSETTO:-0400
TZNAME:EDT
END:DAYLIGHT
END:VTIMEZONE
END:VCALENDAR