BEGIN:VCALENDAR
VERSION:2.0
PRODID:-//wp-events-plugin.com//7.2.3.1//EN
TZID:America/New_York
X-WR-TIMEZONE:America/New_York
BEGIN:VEVENT
UID:52@newtonconservators.org
DTSTART;TZID=America/New_York:20190622T110000
DTEND;TZID=America/New_York:20190622T130000
DTSTAMP:20190304T182439Z
URL:https://newtonconservators.org/events/ferns-of-webster-conservation-ar
 ea/
SUMMARY:Ferns of Webster Conservation Area
DESCRIPTION:(Rain Date: June 23)\nThe Webster and Cohen Conservation areas 
 and the DCR Hammond Pond Reservation form a large wooded expanse that stre
 tches from the shopping malls of Route 9 almost to Newton Centre. The wood
 s are home to 20 kinds of ferns and related plants. We will visit the sout
 heast corner near Hammond Pond and see a dozen or more kinds of ferns.\n\n
 Wear long pants to protect against poison ivy and bugs. If you have a hand
  lens\, bring it. Bring any native fern you would like me to identify.\n\n
 Park and meet near the woods behind The Street Shopping Center (near Davio
 ’s Restaurant)\, between the pond and Hammond Pond Parkway.\n\nTrip Lead
 er: Don Lubin\, 617-254-8464\, don@nefern.info\, http://nefern.info
ATTACH;FMTTYPE=image/jpeg:https://newtonconservators.org/wp-content/upload
 s/2018/11/fern.jpg
CATEGORIES:Guided Walks
LOCATION:Hammond Pond Reservation\, Hammond Pond Reservation\, Newton\, MA\
 , United States
GEO:42.322019;-71.172981
X-APPLE-STRUCTURED-LOCATION;VALUE=URI;X-ADDRESS=Hammond Pond Reservation\, 
 Newton\, MA\, United States;X-APPLE-RADIUS=100;X-TITLE=Hammond Pond Reserv
 ation:geo:42.322019,-71.172981
END:VEVENT
BEGIN:VTIMEZONE
TZID:America/New_York
X-LIC-LOCATION:America/New_York
BEGIN:DAYLIGHT
DTSTART:20190310T030000
TZOFFSETFROM:-0500
TZOFFSETTO:-0400
TZNAME:EDT
END:DAYLIGHT
END:VTIMEZONE
END:VCALENDAR