BEGIN:VCALENDAR
VERSION:2.0
PRODID:-//wp-events-plugin.com//7.2.3.1//EN
TZID:America/New_York
X-WR-TIMEZONE:America/New_York
BEGIN:VEVENT
UID:148@newtonconservators.org
DTSTART;TZID=America/New_York:20190715T190000
DTEND;TZID=America/New_York:20190715T200000
DTSTAMP:20190704T144319Z
URL:https://newtonconservators.org/events/friends-of-webster-woods-informa
 tion-session/
SUMMARY:Friends of Webster Woods information session
DESCRIPTION:The Friends of Webster Woods are meeting to discuss the efforts
  to save the woods.\n\nLearn more\, and RSVP if you're planning on attendi
 ng\, on the Friends' Google Group page.\n\n\n\nMore about saving Webster W
 oods
ATTACH;FMTTYPE=image/jpeg:https://newtonconservators.org/wp-content/upload
 s/2019/01/webster_sign.jpg
CATEGORIES:Meetings
LOCATION:Altman Residence\, 180 Elgin Street\, Newton\, MA\, United States
GEO:42.3267965;-71.18425830000001
X-APPLE-STRUCTURED-LOCATION;VALUE=URI;X-ADDRESS=180 Elgin Street\, Newton\,
  MA\, United States;X-APPLE-RADIUS=100;X-TITLE=Altman Residence:geo:42.326
 7965,-71.18425830000001
END:VEVENT
BEGIN:VTIMEZONE
TZID:America/New_York
X-LIC-LOCATION:America/New_York
BEGIN:DAYLIGHT
DTSTART:20190310T030000
TZOFFSETFROM:-0500
TZOFFSETTO:-0400
TZNAME:EDT
END:DAYLIGHT
END:VTIMEZONE
END:VCALENDAR