BEGIN:VCALENDAR
VERSION:2.0
PRODID:-//wp-events-plugin.com//7.2.3.1//EN
TZID:America/New_York
X-WR-TIMEZONE:America/New_York
BEGIN:VEVENT
UID:210@newtonconservators.org
DTSTART;TZID=America/New_York:20200426T093000
DTEND;TZID=America/New_York:20200426T120000
DTSTAMP:20200330T022004Z
URL:https://newtonconservators.org/events/garlic-mustard-pull-at-dolan-pon
 d-2/
SUMMARY:CANCELLED--Garlic Mustard Pull at Dolan Pond
DESCRIPTION:A NewtonSERVES project\n(registration opens April 1 at the Newt
 onSERVES website)\nCome help us eradicate this soil-damaging invasive garl
 ic mustard from this gem of a pocket park. We also continue to control the
  Japanese Knotweed\; every year it gets easier. We may also do some genera
 l cleanup and possible trail work.  You may also see some interesting mig
 rating birds and vernal pool creatures.  Wear long pants and garden glove
 s.\n\nLeader is Ted Kuklinski\, 617-332-7753.
ATTACH;FMTTYPE=image/jpeg:https://newtonconservators.org/wp-content/upload
 s/2018/11/GarlicMustardTK1000.jpg
CATEGORIES:Invasive Species Pulls
LOCATION:Dolan Pond\, 76 Webster Park\, Newton\, MA\, 02465\, United States
GEO:42.3503631;-71.23425689999999
X-APPLE-STRUCTURED-LOCATION;VALUE=URI;X-ADDRESS=76 Webster Park\, Newton\, 
 MA\, 02465\, United States;X-APPLE-RADIUS=100;X-TITLE=Dolan Pond:geo:42.35
 03631,-71.23425689999999
END:VEVENT
BEGIN:VTIMEZONE
TZID:America/New_York
X-LIC-LOCATION:America/New_York
BEGIN:DAYLIGHT
DTSTART:20200308T030000
TZOFFSETFROM:-0500
TZOFFSETTO:-0400
TZNAME:EDT
END:DAYLIGHT
END:VTIMEZONE
END:VCALENDAR