BEGIN:VCALENDAR
VERSION:2.0
PRODID:-//wp-events-plugin.com//7.2.3.1//EN
TZID:America/New_York
X-WR-TIMEZONE:America/New_York
BEGIN:VEVENT
UID:376@newtonconservators.org
DTSTART;TZID=America/New_York:20220626T130000
DTEND;TZID=America/New_York:20220626T130000
DTSTAMP:20220625T005923Z
URL:https://newtonconservators.org/events/go-carless-explore-newtons-aqued
 uct/
SUMMARY:Go Carless! Explore Newton's Aqueduct
DESCRIPTION:\n\nJoin Green Newton and Newton Conservators on a walk lead by
  Henry Finch at 1pm in Newton Centre at the intersection of Centre St and 
 Tyler Terrace for this 6-mile round-trip hike! We'll walk on the Sudbury A
 queduct to Echo Bridge and Hemlock Gorge. We'll walk back the same way cut
 ting over to Cochituate Aqueduct on Plymouth Road.\n\nTo shorten the walk\
 , participants can take a short cut back to the start by taking the T's Gr
 een Line at Eliot Station. Map can be found here: https://www.google.com/m
 aps/d/u/0/edit?mid=1gFGhP6TDTgfT94t2w1SN-jSQUImSYrg&amp\;usp=sharing\n\nWa
 lking and taking public transportation is not only great exercise\, but ca
 n greatly reduce your carbon footprint! Go carless with us and explore New
 ton's aqueducts.\n\n*Please note that the weather will be hot and there wi
 ll be some hilly terrain so please plan accordingly and come prepared with
  water!
END:VEVENT
BEGIN:VTIMEZONE
TZID:America/New_York
X-LIC-LOCATION:America/New_York
BEGIN:DAYLIGHT
DTSTART:20220313T030000
TZOFFSETFROM:-0500
TZOFFSETTO:-0400
TZNAME:EDT
END:DAYLIGHT
END:VTIMEZONE
END:VCALENDAR