BEGIN:VCALENDAR
VERSION:2.0
PRODID:-//wp-events-plugin.com//7.2.3.1//EN
TZID:America/New_York
X-WR-TIMEZONE:America/New_York
BEGIN:VEVENT
UID:437@newtonconservators.org
DTSTART;TZID=America/New_York:20230528T093000
DTEND;TZID=America/New_York:20230528T110000
DTSTAMP:20230407T232734Z
URL:https://newtonconservators.org/events/houghton-garden-invasives-pull-7
 /
SUMMARY:Houghton Garden Invasives Pull
DESCRIPTION:We are tackling garlic mustard\, black swallow-wort\, and other
  invasives near the entrance of Houghton Garden where it borders the T Tra
 ck crossing to Webster Woods. Help keep these invaders out of Houghton Gar
 den! Wear long pants and garden gloves. Trash bags will be provided\; the 
 City will dispose properly as trash\, not as yard waste.\n\nLeader is Kath
 erine Howard\, 617-721-2571.
ATTACH;FMTTYPE=image/jpeg:https://newtonconservators.org/wp-content/upload
 s/2018/11/GarlicMustardTK1000.jpg
CATEGORIES:Invasive Species Pulls
LOCATION:Houghton Garden at MBTA tracks\, 210 Suffolk Road\, Chestnut Hill\
 , MA\, 02467\, United States
GEO:42.3294821;-71.17470889999998
X-APPLE-STRUCTURED-LOCATION;VALUE=URI;X-ADDRESS=210 Suffolk Road\, Chestnut
  Hill\, MA\, 02467\, United States;X-APPLE-RADIUS=100;X-TITLE=Houghton Gar
 den at MBTA tracks:geo:42.3294821,-71.17470889999998
END:VEVENT
BEGIN:VTIMEZONE
TZID:America/New_York
X-LIC-LOCATION:America/New_York
BEGIN:DAYLIGHT
DTSTART:20230312T030000
TZOFFSETFROM:-0500
TZOFFSETTO:-0400
TZNAME:EDT
END:DAYLIGHT
END:VTIMEZONE
END:VCALENDAR