BEGIN:VCALENDAR
VERSION:2.0
PRODID:-//wp-events-plugin.com//7.2.3.1//EN
TZID:America/New_York
X-WR-TIMEZONE:America/New_York
BEGIN:VEVENT
UID:442@newtonconservators.org
DTSTART;TZID=America/New_York:20230604T093000
DTEND;TZID=America/New_York:20230604T120000
DTSTAMP:20230407T233949Z
URL:https://newtonconservators.org/events/invasives-pull-at-sawmill-brook-
 7/
SUMMARY:Invasives Pull at Sawmill Brook
DESCRIPTION:Sawmill Brook Conservation Area is a lovely\, long\, natural tr
 ail connecting Newton to West Roxbury. It has garlic mustard\, black swall
 ow-wort\, and knotweed infestations at its entrances and along Lagrange St
 . and Wayne Road borders. We will work at each entrance and along Lagrange
  and Wayne\, and patrol previously worked areas. Wear long pants and garde
 n gloves. The invasive plant material will be properly disposed of as tras
 h\, not as yard waste.\n\n Leaders are Francesco DiTullio and Katherine Ho
 ward\, 617-721-2571.
ATTACH;FMTTYPE=image/jpeg:https://newtonconservators.org/wp-content/upload
 s/2018/11/wilkinson_swallowwort.jpg
CATEGORIES:Invasive Species Pulls
LOCATION:Sawmill Brook Conservation Area\, 93 Vine Street\, Chestnut Hill\,
  MA\, 02467\, United States
GEO:42.3029622;-71.17202829999997
X-APPLE-STRUCTURED-LOCATION;VALUE=URI;X-ADDRESS=93 Vine Street\, Chestnut H
 ill\, MA\, 02467\, United States;X-APPLE-RADIUS=100;X-TITLE=Sawmill Brook 
 Conservation Area:geo:42.3029622,-71.17202829999997
END:VEVENT
BEGIN:VTIMEZONE
TZID:America/New_York
X-LIC-LOCATION:America/New_York
BEGIN:DAYLIGHT
DTSTART:20230312T030000
TZOFFSETFROM:-0500
TZOFFSETTO:-0400
TZNAME:EDT
END:DAYLIGHT
END:VTIMEZONE
END:VCALENDAR