BEGIN:VCALENDAR
VERSION:2.0
PRODID:-//wp-events-plugin.com//7.2.3.1//EN
TZID:America/New_York
X-WR-TIMEZONE:America/New_York
BEGIN:VEVENT
UID:401@newtonconservators.org
DTSTART;TZID=America/New_York:20230429T100000
DTEND;TZID=America/New_York:20230429T113000
DTSTAMP:20230406T140723Z
URL:https://newtonconservators.org/events/kids-discovering-hammond-pond/
SUMMARY:Kids- Discovering Hammond Pond
DESCRIPTION:Did you know there is a large pond next to Webster Woods? Join 
 Barbara Bates and Sam Corbin\, Newton Conservators Board members to explor
 e a location new to our children's program! We will be investigating this 
 area together as we work on our scientific questioning\, observation skill
 s\, and learning about our surroundings. Open to children 5 through 9 year
 s old accompanied by an adult. Registration limited to 10 children. A wait
  list will be available if registration is filled. Meeting location and di
 rections will be mailed to all registrants before the walk.\n\nTrip Leader
 : Barbra Bates (B.L.Bates@rcn.com)\n\nPlease register ONLY your children (
 tickets are not required for accompanying adults) and list the children's 
 names in the Registration "Comments" section.
ATTACH;FMTTYPE=image/jpeg:https://newtonconservators.org/wp-content/upload
 s/2022/08/Webster_VP-kids_IMG_4302.HEIC_SCorbin-scaled.jpg
CATEGORIES:Guided Walks
END:VEVENT
BEGIN:VTIMEZONE
TZID:America/New_York
X-LIC-LOCATION:America/New_York
BEGIN:DAYLIGHT
DTSTART:20230312T030000
TZOFFSETFROM:-0500
TZOFFSETTO:-0400
TZNAME:EDT
END:DAYLIGHT
END:VTIMEZONE
END:VCALENDAR