BEGIN:VCALENDAR
VERSION:2.0
PRODID:-//wp-events-plugin.com//7.2.3.1//EN
TZID:America/New_York
X-WR-TIMEZONE:America/New_York
BEGIN:VEVENT
UID:383@newtonconservators.org
DTSTART;TZID=America/New_York:20220924T100000
DTEND;TZID=America/New_York:20220924T113000
DTSTAMP:20220824T113944Z
URL:https://newtonconservators.org/events/kids-nature-adpatation-games/
SUMMARY:Kids- Nature Adpatation Games
DESCRIPTION:Join Barbara Bates and Sam Corbin\, Newton Conservators Board m
 embers\, in navigating Webster Woods while learning about how its inhabita
 nts survive in this environment! Open to children 5 and 9 years old accomp
 anied by an adult. Registration for this event is required. Meeting locati
 on and directions will be emailed to all registrants before the walk. Plea
 se contact the walk leader for permission before bringing children beyond 
 this age group.
ATTACH;FMTTYPE=image/jpeg:https://newtonconservators.org/wp-content/upload
 s/2022/08/Kids-with-Nature-Game_Goobalies.png
LOCATION:Webster Woods Conservation Area\, S\, 250 Hammond Pond Pkwy #1015\
 , Chestnut Hill\, MA\, 02467\, United States
GEO:42.321285;-71.179931
X-APPLE-STRUCTURED-LOCATION;VALUE=URI;X-ADDRESS=S\, 250 Hammond Pond Pkwy #
 1015\, Chestnut Hill\, MA\, 02467\, United States;X-APPLE-RADIUS=100;X-TIT
 LE=Webster Woods Conservation Area:geo:42.321285,-71.179931
END:VEVENT
BEGIN:VTIMEZONE
TZID:America/New_York
X-LIC-LOCATION:America/New_York
BEGIN:DAYLIGHT
DTSTART:20220313T030000
TZOFFSETFROM:-0500
TZOFFSETTO:-0400
TZNAME:EDT
END:DAYLIGHT
END:VTIMEZONE
END:VCALENDAR