BEGIN:VCALENDAR
VERSION:2.0
PRODID:-//wp-events-plugin.com//7.2.3.1//EN
TZID:America/New_York
X-WR-TIMEZONE:America/New_York
BEGIN:VEVENT
UID:528@newtonconservators.org
DTSTART;TZID=America/New_York:20240512T080000
DTEND;TZID=America/New_York:20240512T103000
DTSTAMP:20240326T144557Z
URL:https://newtonconservators.org/events/mothers-day-bird-walk-at-nahanto
 n-park/
SUMMARY:Mother’s Day Bird Walk at Nahanton Park
DESCRIPTION:Nahanton Park offers a mix of woodlands\, wetlands\, edge habit
 at\, and meadows along the Charles River\, making it one of the best birdi
 ng spots in Newton for migrants as well as resident species. Meet at the N
 ahanton Street entrance next to the river. Parking is available inside the
  park. Bring binoculars if you have them. Beginners as well as experienced
  birders are welcome. Waterproof shoes are recommended. Walk will be cance
 led in steady rain. Trip Leaders: Alison Leary (617-821-5619) and Haynes M
 iller (617-413-2419).  This event is cosponsored by Friends of Nahanton P
 ark.
ATTACH;FMTTYPE=image/jpeg:https://newtonconservators.org/wp-content/upload
 s/2024/02/20240512-Mothers-Day-Bird-Walk.jpg
CATEGORIES:Birding,Guided Walks
LOCATION:Nahanton Park - Nahanton Street entrance\, 471 Nahanton Street\, N
 ewton\, MA\, United States
GEO:42.297331;-71.20713269999999
X-APPLE-STRUCTURED-LOCATION;VALUE=URI;X-ADDRESS=471 Nahanton Street\, Newto
 n\, MA\, United States;X-APPLE-RADIUS=100;X-TITLE=Nahanton Park - Nahanton
  Street entrance:geo:42.297331,-71.20713269999999
END:VEVENT
BEGIN:VTIMEZONE
TZID:America/New_York
X-LIC-LOCATION:America/New_York
BEGIN:DAYLIGHT
DTSTART:20240310T030000
TZOFFSETFROM:-0500
TZOFFSETTO:-0400
TZNAME:EDT
END:DAYLIGHT
END:VTIMEZONE
END:VCALENDAR