BEGIN:VCALENDAR
VERSION:2.0
PRODID:-//wp-events-plugin.com//7.2.3.1//EN
TZID:America/New_York
X-WR-TIMEZONE:America/New_York
BEGIN:VEVENT
UID:155@newtonconservators.org
DTSTART;TZID=America/New_York:20190915T093000
DTEND;TZID=America/New_York:20190915T120000
DTSTAMP:20190824T113508Z
URL:https://newtonconservators.org/events/nahanton-park-invasives-pull-2/
SUMMARY:Nahanton Park Invasives Pull
DESCRIPTION:Many native habitats\, including the grassland Woodcock Meadow\
 , home to threatened American Woodcock\, and open woodland habitats\, are 
 threatened by invasive plants. They out-compete native plants\, reduce bio
 diversity and negatively impact birdlife.  Nahanton Park has invasions of
  black swallow-wort\, multi-flora rose\, Tree of Heaven\, buckthorn\, garl
 ic mustard\, and black locust. Join us to improve the beauty and diversity
  of this special park (and help the American woodcock) by spending a few h
 ours cutting back/removing these invasive species. Sturdy shoes\, long pan
 ts\, long sleeves and work gloves recommended.\n\nLeader is Katherine Howa
 rd\, 617-721-2571
ATTACH;FMTTYPE=image/jpeg:https://newtonconservators.org/wp-content/upload
 s/2018/11/knotweed_after_2.jpg
CATEGORIES:Invasive Species Pulls
LOCATION:Nahanton Park - Woodcock Meadow Parking Lot\, 451 Nahanton Street\
 , Newton\, United States
GEO:42.2982938;-71.20695760000001
X-APPLE-STRUCTURED-LOCATION;VALUE=URI;X-ADDRESS=451 Nahanton Street\, Newto
 n\, United States;X-APPLE-RADIUS=100;X-TITLE=Nahanton Park - Woodcock Mead
 ow Parking Lot:geo:42.2982938,-71.20695760000001
END:VEVENT
BEGIN:VTIMEZONE
TZID:America/New_York
X-LIC-LOCATION:America/New_York
BEGIN:DAYLIGHT
DTSTART:20190310T030000
TZOFFSETFROM:-0500
TZOFFSETTO:-0400
TZNAME:EDT
END:DAYLIGHT
END:VTIMEZONE
END:VCALENDAR