BEGIN:VCALENDAR
VERSION:2.0
PRODID:-//wp-events-plugin.com//7.2.3.1//EN
TZID:America/New_York
X-WR-TIMEZONE:America/New_York
BEGIN:VEVENT
UID:582@newtonconservators.org
DTSTART;TZID=America/New_York:20240917T133000
DTEND;TZID=America/New_York:20240917T180000
DTSTAMP:20240916T212638Z
URL:https://newtonconservators.org/events/native-plant-pop-up-sale-at-newt
 on-farmers-market/
SUMMARY:Native Plant Pop-up Sale at Newton Farmers Market
DESCRIPTION:If you have been inspired by our Newton Pollinator Garden Tour 
 to incorporate more native plants in your own garden\, don't miss the Nati
 ve Plant Pop-up Sale at the Cold Spring Park Farmers’ Market on Tuesday\
 , September 17!   Grow Native Massachusetts\, Bluestem Natives\, Lady Fe
 rn Farm\, Checkerspot Farms\, and Red Trillium Gardens will have booths wi
 th some of your favorite native plants for sale!  It's a fantastic opport
 unity to obtain native plants from reputable vendors  for the fall planti
 ng season.  Look for the Newton Conservators Green tent along with the na
 tive plant farms along the tennis court near the regular Farmer's Market.
   Stop by and say hello.  We will have garden carts available to help  
 transport any purchased plants back to your car.  Don't miss this unique 
 group of native plant suppliers - perhaps the best chance this fall to imp
 rove your garden by growing native! Don't miss this unique group of native
  plant suppliers - perhaps the best chance this fall to improve your garde
 n by growing native! And of course you can pick up some fresh veggies and 
 other goodies from the usual farmers market vendors!  This event is cospo
 nsored by Newton Community Pollinator Project and Friends of Cold Spring P
 ark.\n\nNative Plant Vendors at the Pop-Up Sale:\n\n 	Grow Native Massachu
 setts (Lexington\, MA)\n 	Lady Fern Farm (Worcester\, MA)\n 	Blue Stem Na
 tives (Norwell\, MA)\n 	Checkerspot Farm (Colrain\, MA)\n 	Red Trillium Ga
 rdens (Lunenburg\, MA)\n\nJust to give you a chance to see what will be av
 ailable\, here is the incredible plant list from Lady Fern Farm:\n\n 	Rose
  milkweed\, Asclepias incarnata*\n 	Purple milkweed\, Asclepias purpuresce
 ns*\n 	Butterfly milkweed\, Asclepias tuberosa*\n 	Downy woodmint\, Blephi
 a ciliata*\n 	Buttonbush\, Cephalanthus occidentalus*\n 	Great St. John's 
 Wort\, Hypericum ascyron*\n 	Spotted St. John's Wort\, Hypericum punctatum
 *\n 	Shrubby St. John's Wort\, Hypericum prolificum*\n 	Spicebush\, Linder
 a benzoin\n 	Cardinal Flower\, Lobelia cardinalis\n 	Wild bergamot\, Monar
 da fistulosa*\n 	Spotted beebalm\, Monarda punctata\n 	Foxglove Beardtongu
 e\, Penstemon digitalis*\n 	Hairy Beardtongue\, Penstemon hirsutus*\n 	Sel
 fheal\, Prunella vulgaris*\n 	Beach Plum\, Prunus maritima*\n 	Carolina Ro
 se\, Rosa carolina*\n 	Elderberry\, Sambucus canadensis\n 	White Meadowswe
 et\, Spirea alba*\n 	Steeplebush\, Spirea tomentosa*\n 	Sweet Goldenrod\, 
 Solidago odora*\n 	Blue Wood/ Heart-leaved Aster\, Symphyotrichum cordifol
 ium\n 	New England Aster\, Symphyotrichum novae-angliae\n 	Lowbush Blueber
 ry\, Vaccinium angustifolium*\n 	High Bush Blueberry\, Vaccinium corymbosu
 m*\n 	Golden Alexander\, Zizia aurea*\n 	Fantastic garden signs and more p
 lants....\n*indicate plants on Dr. Gegear's list of native plants preferre
 d by imperiled bee and butterfly species in New England.\n
ATTACH;FMTTYPE=image/jpeg:https://newtonconservators.org/wp-content/upload
 s/2024/09/20240917-Pop-Up-Plant-Sale.jpg
LOCATION:Cold Spring Park\, 1200 Beacon Street\, Newton\, MA\, 02461\, Unit
 ed States
GEO:42.331113;-71.213272
X-APPLE-STRUCTURED-LOCATION;VALUE=URI;X-ADDRESS=1200 Beacon Street\, Newton
 \, MA\, 02461\, United States;X-APPLE-RADIUS=100;X-TITLE=Cold Spring Park:
 geo:42.331113,-71.213272
END:VEVENT
BEGIN:VTIMEZONE
TZID:America/New_York
X-LIC-LOCATION:America/New_York
BEGIN:DAYLIGHT
DTSTART:20240310T030000
TZOFFSETFROM:-0500
TZOFFSETTO:-0400
TZNAME:EDT
END:DAYLIGHT
END:VTIMEZONE
END:VCALENDAR