BEGIN:VCALENDAR
VERSION:2.0
PRODID:-//wp-events-plugin.com//7.2.3.1//EN
TZID:America/New_York
X-WR-TIMEZONE:America/New_York
BEGIN:VEVENT
UID:453@newtonconservators.org
DTSTART;TZID=America/New_York:20230513T100000
DTEND;TZID=America/New_York:20230513T160000
DTSTAMP:20230511T183148Z
URL:https://newtonconservators.org/events/newton-family-funfest/
SUMMARY:Newton Family FunFest
DESCRIPTION:Newton Family FunFEST is a celebration of art and entertainment
  for all ages including live musical performances\, carnival\, community a
 rt project\, live public art event\, vendor booths and more.\n\nCome visit
  our Newton Conservators tent and table at this great kid-oriented event. 
 We'll have some kids pollinator activities.\n\nWhat does it mean to Shine?
  To be radiant\, brilliant\, to stand out\, to excel! At Newton Cultural D
 evelopment we believe we have talented shining stars among our youth in Ne
 wton\, and it'd exciting to give them a platform during Family FunFEST to 
 SHINE .\n\nPublic Art Project SHINE - Congratulations to the selected stud
 ent artists who will be painting mural boards to be on display in our park
 s and playgrounds this summer!\n\nThere will be musical performances\, the
 ater\, food\, rides\, and more at this great outdoor event at the City Hal
 l War Memorial Circle.\n\nFind out more at:\nhttps://www.newtonma.gov/gove
 rnment/parks-recreation-culture/cultural-development/family-funfest
ATTACH;FMTTYPE=image/jpeg:https://newtonconservators.org/wp-content/upload
 s/2023/05/20230513-Family-FunFest.jpg
LOCATION:Newton City Hall\, 1000 Commonwealth Avenue\, Newton\, MA\, United
  States
GEO:42.3374309;-71.20885650000002
X-APPLE-STRUCTURED-LOCATION;VALUE=URI;X-ADDRESS=1000 Commonwealth Avenue\, 
 Newton\, MA\, United States;X-APPLE-RADIUS=100;X-TITLE=Newton City Hall:ge
 o:42.3374309,-71.20885650000002
END:VEVENT
BEGIN:VTIMEZONE
TZID:America/New_York
X-LIC-LOCATION:America/New_York
BEGIN:DAYLIGHT
DTSTART:20230312T030000
TZOFFSETFROM:-0500
TZOFFSETTO:-0400
TZNAME:EDT
END:DAYLIGHT
END:VTIMEZONE
END:VCALENDAR