BEGIN:VCALENDAR
VERSION:2.0
PRODID:-//wp-events-plugin.com//7.2.3.1//EN
TZID:America/New_York
X-WR-TIMEZONE:America/New_York
BEGIN:VEVENT
UID:587@newtonconservators.org
DTSTART;TZID=America/New_York:20241020T110000
DTEND;TZID=America/New_York:20241020T160000
DTSTAMP:20240904T010627Z
URL:https://newtonconservators.org/events/newton-harvest-fair-and-greenexp
 o/
SUMMARY:Newton Harvest Fair and GreenEXPO
DESCRIPTION:The Newton Harvest Fair is a carnival with food trucks\, live m
 usic\, 100+ crafters/vendors\, and free pumpkin decorating courtesy of Weg
 man's Chestnut Hill (while supplies last). The GreenEXPO is held in conjun
 ction with the City of Newton’s Harvest Fair and organized by Green Newt
 on. Come see the many options available to make your life greener. Availab
 le will be representatives from sustainability focused companies\, communi
 ty organizations\, and city departments to share information and answer qu
 estions. Come visit our green Newton Conservators tent in the GreenEXPO ar
 ea!
ATTACH;FMTTYPE=image/jpeg:https://newtonconservators.org/wp-content/upload
 s/2024/09/20241020-Harvest-Fair-GreenEXPO.jpg
LOCATION:Newton Centre Green\, 1221 Centre Street\, Newton\, MA\, United St
 ates
GEO:42.331036;-71.19491
X-APPLE-STRUCTURED-LOCATION;VALUE=URI;X-ADDRESS=1221 Centre Street\, Newton
 \, MA\, United States;X-APPLE-RADIUS=100;X-TITLE=Newton Centre Green:geo:4
 2.331036,-71.19491
END:VEVENT
BEGIN:VTIMEZONE
TZID:America/New_York
X-LIC-LOCATION:America/New_York
BEGIN:DAYLIGHT
DTSTART:20240310T030000
TZOFFSETFROM:-0500
TZOFFSETTO:-0400
TZNAME:EDT
END:DAYLIGHT
END:VTIMEZONE
END:VCALENDAR