BEGIN:VCALENDAR
VERSION:2.0
PRODID:-//wp-events-plugin.com//7.2.3.1//EN
TZID:America/New_York
X-WR-TIMEZONE:America/New_York
BEGIN:VEVENT
UID:510@newtonconservators.org
DTSTART;TZID=America/New_York:20231015T110000
DTEND;TZID=America/New_York:20231015T160000
DTSTAMP:20231012T211205Z
URL:https://newtonconservators.org/events/newton-harvest-fair-green-expo-2
 023/
SUMMARY:Newton Harvest Fair / Green Expo 2023
DESCRIPTION:Look for our  new Newton Conservators GREEN tent in the Green 
 Expo area of the Newton Harvest Fair celebration\, where you can pick up t
 he latest schedules\, try some crafts for the kids\, or learn about volunt
 eer opportunities fro our board members.\n\nThe GreenEXPO\, organized by G
 reen Newton\, showcases representatives from sustainability-focused compan
 ies\, community organizations\, and city departments to share information 
 and answer questions. With 1200+ visitors to the GreenEXPO and the Harvest
  Fair\, it's a great day for families to learn how to live greener while e
 njoying a day outdoors.\n\nThe Harvest Fair features a Kiddie Carnival\, R
 ides\, Food\, live Music\, and loads of vendor booths. It's a wonderful fa
 mily event.\n\nDrop by our booth and say hello!  Find full details on the
  festival including music schedules\, food vendors\, and more HERE!  This
  event is Rain or Shine and currently it is looking like Shine!\n\n&nbsp\;
 \n\n&nbsp\;
ATTACH;FMTTYPE=image/jpeg:https://newtonconservators.org/wp-content/upload
 s/2023/10/20231015-Harvest-Fair-Green-Expo.jpg
CATEGORIES:Green Newton Events,Recreation &amp; Culture,Special Events
LOCATION:Newton Centre Green\, 1221 Centre Street\, Newton\, MA\, United St
 ates
GEO:42.331036;-71.19491
X-APPLE-STRUCTURED-LOCATION;VALUE=URI;X-ADDRESS=1221 Centre Street\, Newton
 \, MA\, United States;X-APPLE-RADIUS=100;X-TITLE=Newton Centre Green:geo:4
 2.331036,-71.19491
END:VEVENT
BEGIN:VTIMEZONE
TZID:America/New_York
X-LIC-LOCATION:America/New_York
BEGIN:DAYLIGHT
DTSTART:20230312T030000
TZOFFSETFROM:-0500
TZOFFSETTO:-0400
TZNAME:EDT
END:DAYLIGHT
END:VTIMEZONE
END:VCALENDAR