BEGIN:VCALENDAR
VERSION:2.0
PRODID:-//wp-events-plugin.com//7.2.3.1//EN
TZID:America/New_York
X-WR-TIMEZONE:America/New_York
BEGIN:VEVENT
UID:413@newtonconservators.org
DTSTART;TZID=America/New_York:20230506T103000
DTEND;TZID=America/New_York:20230506T120000
DTSTAMP:20230306T142835Z
URL:https://newtonconservators.org/events/noticing-nature-in-webster-woods
 -a-walk-for-all-ages/
SUMMARY:Noticing Nature in Webster Woods: A Walk for All Ages
DESCRIPTION:On this “noticing” walk\, we encourage our senses — when 
 we see\, hear\, smell\, and touch — to guide our exploration of Webster 
 Woods. It’s a time of emerging flowers both beautiful (lady slippers) an
 d smelly (skunk cabbage) and of spring frog sounds. There are also rock cr
 evices where yellow spotted salamanders might lurk\, or green moss or lich
 en might grow. We will discuss nature we notice. This walk is about 1.5 mi
 les and will cover a few steep and rocky places. Open to adults and childr
 en over five years old. Meet in the parking lot on the west side of Hammon
 d Parkway by the Clothes Drop Off behind the Shops at Chestnut Hill (NOT t
 he parking lot by the Container Store near The Street).
ATTACH;FMTTYPE=image/jpeg:https://newtonconservators.org/wp-content/upload
 s/2018/10/ladyslipper_primack_2.jpg
LOCATION:Webster Woods Conservation Area\, S\, 250 Hammond Pond Pkwy #1015\
 , Chestnut Hill\, MA\, 02467\, United States
GEO:42.321285;-71.179931
X-APPLE-STRUCTURED-LOCATION;VALUE=URI;X-ADDRESS=S\, 250 Hammond Pond Pkwy #
 1015\, Chestnut Hill\, MA\, 02467\, United States;X-APPLE-RADIUS=100;X-TIT
 LE=Webster Woods Conservation Area:geo:42.321285,-71.179931
END:VEVENT
BEGIN:VTIMEZONE
TZID:America/New_York
X-LIC-LOCATION:America/New_York
BEGIN:DAYLIGHT
DTSTART:20230312T030000
TZOFFSETFROM:-0500
TZOFFSETTO:-0400
TZNAME:EDT
END:DAYLIGHT
END:VTIMEZONE
END:VCALENDAR