BEGIN:VCALENDAR
VERSION:2.0
PRODID:-//wp-events-plugin.com//7.2.3.1//EN
TZID:America/New_York
X-WR-TIMEZONE:America/New_York
BEGIN:VEVENT
UID:113@newtonconservators.org
DTSTART;TZID=America/New_York:20190623T130000
DTEND;TZID=America/New_York:20190623T170000
DTSTAMP:20190625T111816Z
URL:https://newtonconservators.org/events/paddles-and-picnics-2019/
SUMMARY:Crystal Lake Paddles and Picnics
DESCRIPTION:[Because of rain forecast for June 16th\, this event has been m
 oved to the rain date of June 23rd.]\n\nThe Crystal Lake Conservancy and t
 he Newton Parks and Recreation Department will host Paddles and Picnics ag
 ain this year on June 16th\, 2019 (rain date: June 23rd). Boat and paddle 
 board rentals will be available between 1 and 5 PM (last boats out at 4:30
  PM). We hope you will join us.\n\nWe hope to see you at this event - or a
 t the lake - soon!\n\n\n\n&nbsp\;
ATTACH;FMTTYPE=image/jpeg:https://newtonconservators.org/wp-content/upload
 s/2019/06/crystal-P1020762.jpg
CATEGORIES:Recreation,Special Events
LOCATION:Crystal Lake Bathhouse\, 16 Rogers Street\, Newton\, MA\, United S
 tates
GEO:42.3253288;-71.20280450000001
X-APPLE-STRUCTURED-LOCATION;VALUE=URI;X-ADDRESS=16 Rogers Street\, Newton\,
  MA\, United States;X-APPLE-RADIUS=100;X-TITLE=Crystal Lake Bathhouse:geo:
 42.3253288,-71.20280450000001
END:VEVENT
BEGIN:VTIMEZONE
TZID:America/New_York
X-LIC-LOCATION:America/New_York
BEGIN:DAYLIGHT
DTSTART:20190310T030000
TZOFFSETFROM:-0500
TZOFFSETTO:-0400
TZNAME:EDT
END:DAYLIGHT
END:VTIMEZONE
END:VCALENDAR