BEGIN:VCALENDAR
VERSION:2.0
PRODID:-//wp-events-plugin.com//7.2.3.1//EN
TZID:America/New_York
X-WR-TIMEZONE:America/New_York
BEGIN:VEVENT
UID:424@newtonconservators.org
DTSTART;TZID=America/New_York:20230430T120000
DTEND;TZID=America/New_York:20230430T133000
DTSTAMP:20230403T180059Z
URL:https://newtonconservators.org/events/quinobequin-rd-invasives-pull-2/
SUMMARY:Quinobequin Rd. Invasives Pull
DESCRIPTION:We will control garlic mustard\, knotweed\, and black swallow-w
 ort infestations on the Charles River's Quinobequin trail\, which leads to
  beautiful Hemlock Gorge.. Help keep the invaders out of these beautiful p
 arks! Wear long pants and garden gloves. Trash bags will be provided\; the
 state Department of Conservation and Recreation (DCR) will properly dispos
 e as trash\, not as yard waste.\n\nMeet at the corner of Quinobequin and R
 adcliff Rd\, near 24 Radcliff.\n\nLeaders are Ann Ritchie and Katherine Ho
 ward\, 617-721-2571.
ATTACH;FMTTYPE=image/jpeg:https://newtonconservators.org/wp-content/upload
 s/2018/11/0026.jpg
CATEGORIES:Invasive Species Pulls
LOCATION:Radcliff Rd & Quinobequin\, 24 Radcliff Rd\, Waban\, MA\, United S
 tates
GEO:42.320165;-71.22814
X-APPLE-STRUCTURED-LOCATION;VALUE=URI;X-ADDRESS=24 Radcliff Rd\, Waban\, MA
 \, United States;X-APPLE-RADIUS=100;X-TITLE=Radcliff Rd & Quinobequin:geo:
 42.320165,-71.22814
END:VEVENT
BEGIN:VTIMEZONE
TZID:America/New_York
X-LIC-LOCATION:America/New_York
BEGIN:DAYLIGHT
DTSTART:20230312T030000
TZOFFSETFROM:-0500
TZOFFSETTO:-0400
TZNAME:EDT
END:DAYLIGHT
END:VTIMEZONE
END:VCALENDAR