BEGIN:VCALENDAR
VERSION:2.0
PRODID:-//wp-events-plugin.com//7.2.3.1//EN
TZID:America/New_York
X-WR-TIMEZONE:America/New_York
BEGIN:VEVENT
UID:542@newtonconservators.org
DTSTART;TZID=America/New_York:20240504T090000
DTEND;TZID=America/New_York:20240504T110000
DTSTAMP:20240418T234453Z
URL:https://newtonconservators.org/events/quinobequin-rd-invasives-pull-4/
SUMMARY:Quinobequin Rd. Invasives Pull
DESCRIPTION:We will control garlic mustard infestations on the Charles Rive
 r's Quinobequin trail\, which leads to beautiful Hemlock Gorge.. Help keep
  the invaders out of these beautiful parks! Wear long pants and garden glo
 ves. Trash bags will be provided\; thestate Department of Conservation and
  Recreation (DCR) will properly dispose as trash\, not as yard waste.\n\nM
 eet at the Ellis St parking lot at corner of Quinobequin \, Route 9 and El
 lis St.\n\nLeader is Katherine Howard\, 617-721-2571. Email invasives@newt
 onconservators.org to get on the invasives email group and receive the lat
 est updates.
ATTACH;FMTTYPE=image/jpeg:https://newtonconservators.org/wp-content/upload
 s/2018/11/0026.jpg
CATEGORIES:Invasive Species Pulls
LOCATION:Radcliff Rd & Quinobequin\, 24 Radcliff Rd\, Waban\, MA\, United S
 tates
GEO:42.320165;-71.22814
X-APPLE-STRUCTURED-LOCATION;VALUE=URI;X-ADDRESS=24 Radcliff Rd\, Waban\, MA
 \, United States;X-APPLE-RADIUS=100;X-TITLE=Radcliff Rd & Quinobequin:geo:
 42.320165,-71.22814
END:VEVENT
BEGIN:VTIMEZONE
TZID:America/New_York
X-LIC-LOCATION:America/New_York
BEGIN:DAYLIGHT
DTSTART:20240310T030000
TZOFFSETFROM:-0500
TZOFFSETTO:-0400
TZNAME:EDT
END:DAYLIGHT
END:VTIMEZONE
END:VCALENDAR