BEGIN:VCALENDAR
VERSION:2.0
PRODID:-//wp-events-plugin.com//7.2.3.1//EN
TZID:America/New_York
X-WR-TIMEZONE:America/New_York
BEGIN:VEVENT
UID:87@newtonconservators.org
DTSTART;TZID=America/New_York:20190915T140000
DTEND;TZID=America/New_York:20190915T160000
DTSTAMP:20190731T110531Z
URL:https://newtonconservators.org/events/riverside-trails/
SUMMARY:Riverside Trails Walk with Historic Newton
DESCRIPTION:
ATTACH;FMTTYPE=image/jpeg:https://newtonconservators.org/wp-content/upload
 s/2018/10/P1100831_1.jpg
CATEGORIES:Guided Walks,Guided Walks -- Other Organizations
LOCATION:Lasell Boathouse\, 107 Charles Street\, Auburndale\, MA\, United S
 tates
GEO:42.341785;-71.2573289
X-APPLE-STRUCTURED-LOCATION;VALUE=URI;X-ADDRESS=107 Charles Street\, Auburn
 dale\, MA\, United States;X-APPLE-RADIUS=100;X-TITLE=Lasell Boathouse:geo:
 42.341785,-71.2573289
END:VEVENT
BEGIN:VTIMEZONE
TZID:America/New_York
X-LIC-LOCATION:America/New_York
BEGIN:DAYLIGHT
DTSTART:20190310T030000
TZOFFSETFROM:-0500
TZOFFSETTO:-0400
TZNAME:EDT
END:DAYLIGHT
END:VTIMEZONE
END:VCALENDAR