BEGIN:VCALENDAR
VERSION:2.0
PRODID:-//wp-events-plugin.com//7.2.3.1//EN
TZID:America/New_York
X-WR-TIMEZONE:America/New_York
BEGIN:VEVENT
UID:511@newtonconservators.org
DTSTART;TZID=America/New_York:20231104T150000
DTEND;TZID=America/New_York:20231104T173000
DTSTAMP:20231030T223700Z
URL:https://newtonconservators.org/events/saturday-night-at-the-races-a-ca
 ndidating-event/
SUMMARY:Saturday Night at the Races - a Candidating Event
DESCRIPTION:The League of Women Voters of Newton (LWVN)\, the Newton North 
 High School Center for Civic Engagement and Service (CCES)\, and our nonpa
 rtisan co-sponsors\, invite all Newton voters to our candidating event\, S
 aturday Night at the Races. (Actually it's more in the afternoon!).  Vote
 rs will have an opportunity to meet the candidates running for local offic
 e and ask them about their positions on the important issues facing Newton
 . All candidates (whether they have a challenger or not) have been invited
  to participate.\n\nThe afternoon will be structured as a round robin. Eac
 h of the city’s eight wards will be represented at a table with each war
 d’s city council candidates. School Committee candidates will be availab
 le at two additional tables. Moderators assigned by LWVN\, CCES\, and our 
 co-sponsors\, will be present at each table to make sure all voters have a
  chance to ask their questions and each candidate has an equal opportunity
  to respond.\n\nVoters will be given approximately 12 minutes at each tabl
 e before they are signaled to move on to another table. There will be ten 
 rounds so that each voter has an opportunity to visit with the city counci
 l candidates from each ward as well as the school committee candidates.\n\
 nThe event will take place in the Newton North High School Cafeteria.  Us
 e the front entrance to NNHS off Tiger Drive (which is off Walnut Street).
 \n\nFor more information\, please contact the League of Women Voters of Ne
 wton (LWVN) at info@lwvnewton.org or visit lwvnewton.org/event/saturday-ni
 ght-at-the-races-2023/ or newtoncces.org/. Event information is also avail
 able on the websites of some of the event’s other nonpartisan cosponsors
 \, including:\n\n 	Newton Conservators\n 	Charles River Regional Chamber\n
  	The Village Bank\n 	Mothers Out Front Newton\n 	Harmony Foundation\n 	Ne
 wton Beacon\n 	Green Newton\n 	Newton Cultural Alliance\n 	Newton Upstande
 rs\n\n&nbsp\;
ATTACH;FMTTYPE=image/jpeg:https://newtonconservators.org/wp-content/upload
 s/2023/10/20231104-Saturday-Night-at-the-Races.jpg
CATEGORIES:LWV Events,Special Events
LOCATION:Newton North High School\, 457 Walnut Street\, Newtonville\, MA\, 
 02460\, United States
GEO:42.345147;-71.207529
X-APPLE-STRUCTURED-LOCATION;VALUE=URI;X-ADDRESS=457 Walnut Street\, Newtonv
 ille\, MA\, 02460\, United States;X-APPLE-RADIUS=100;X-TITLE=Newton North 
 High School:geo:42.345147,-71.207529
END:VEVENT
BEGIN:VTIMEZONE
TZID:America/New_York
X-LIC-LOCATION:America/New_York
BEGIN:DAYLIGHT
DTSTART:20230312T030000
TZOFFSETFROM:-0500
TZOFFSETTO:-0400
TZNAME:EDT
END:DAYLIGHT
END:VTIMEZONE
END:VCALENDAR