BEGIN:VCALENDAR
VERSION:2.0
PRODID:-//wp-events-plugin.com//7.2.3.1//EN
TZID:America/New_York
X-WR-TIMEZONE:America/New_York
BEGIN:VEVENT
UID:534@newtonconservators.org
DTSTART;TZID=America/New_York:20240915T130000
DTEND;TZID=America/New_York:20240915T160000
DTSTAMP:20240915T124303Z
URL:https://newtonconservators.org/events/second-annual-newton-pollinator-
 garden-tour/
SUMMARY:Second Annual Newton Pollinator Garden Tour
DESCRIPTION:The Second Annual Newton Pollinator Garden Tour will be held on
  Sunday\, September 15th\, 2024 from 1 to 4 pm with a rain date of Sunday\
 , September 22\, 2024.  Last year's inaugural tour was a great success an
 d we saw a huge interest in folks growing their own native plant pollinato
 r gardens.  The tour will be focused on pollinator gardens with mostly na
 tive plants in Newton Center\, Newton Highlands\, and West Newton this yea
 r with a mix of both public and private gardens.   Preregistration is re
 quested and maps of the gardens and plant lists will be supplied to regist
 rants ahead of time by email.  Free registration is available below.  Wi
 th the map you can visit the gardens at your own pace.  Most of the garde
 ns on the tour will have gardeners to answer any questions you may have.\n
 \nWhy pollinator gardens?  Gardens with native plants can be both beautif
 ul and functional at sustaining our pollinators.  Our environment is at r
 isk because of precipitous declines in native plants and the insects\, bir
 ds\, and other animals that depend on those plants.  Check out the Newton
  Pollinator Toolkit to find out recommended plants for different condition
 s in Newton!  If you are inspired by the tour\, you will be able to buy y
 our favorite native plants through a Native Plant Pop-up Sale at the subse
 quent Cold Spring Park Farmers Market\, Tuesday\, September 17\, 1:30 - 6:
 30\, from GrowNative Massachusetts\, Bluestem Natives\, Lady Fern Farm\, a
 nd other responsible vendors.\n\nThe tour is being organized by the Newton
  Community Pollinator Project  in conjunction with the Newton Conservator
 s\, Newton Parks Recreation and Culture Department\, Green Newton\, Friend
 s of Cold Spring Park\,  Friends of Wellington Park\,  Mothers Out Front
  Newton\, and Newton Cemetery &amp\; Arboretum.  If you are interested in
  having your garden included in the tour this year or in the future\, plea
 se note it in the registration.\n\nNote:\n\nHere is the full Guide in PDF 
 form to the 2024 Pollinator tour which includes both maps\, information\, 
 pictures\, and plant lists for each garden on the tour  (12.4 MB)\nNewton
  Pollinator Garden Tour 2024 Guide\nHere is the two page map of the tour (
 2 pages\, 1.2 MB)\nNewton Pollinator Garden Tour 2024 Map - V3\nHere are s
 ome Pollinator Garden Resources:\nNewton Pollinator Garden Tour Resources\
 n&nbsp\;
ATTACH;FMTTYPE=image/jpeg:https://newtonconservators.org/wp-content/upload
 s/2024/03/20240915-Pollinstor-Garden-Tour.jpg
CATEGORIES:Guided Walks,Special Events
END:VEVENT
BEGIN:VTIMEZONE
TZID:America/New_York
X-LIC-LOCATION:America/New_York
BEGIN:DAYLIGHT
DTSTART:20240310T030000
TZOFFSETFROM:-0500
TZOFFSETTO:-0400
TZNAME:EDT
END:DAYLIGHT
END:VTIMEZONE
END:VCALENDAR