BEGIN:VCALENDAR
VERSION:2.0
PRODID:-//wp-events-plugin.com//7.2.3.1//EN
TZID:America/New_York
X-WR-TIMEZONE:America/New_York
BEGIN:VEVENT
UID:406@newtonconservators.org
DTSTART;TZID=America/New_York:20230513T073000
DTEND;TZID=America/New_York:20230513T093000
DTSTAMP:20230301T003954Z
URL:https://newtonconservators.org/events/spring-birding-at-cold-spring-pa
 rk/
SUMMARY:Spring Birding at Dolan Pond
DESCRIPTION:Explore Dolan Pond Conservation Area in West Newton at peak tim
 e for newly arrived colorful residents\, as well as migrating warblers\, t
 hrushes\, vireos and more. This area is home to a number of vernal pools w
 hich provide habitat for ducks\, herons\, turtles\, frogs\, and toads.  
  Colorful wood ducks have nested and had babies here in recent years .\n\
 nOver 60 species are usually seen each spring and it is considered an eBir
 d hotspot - you can find the latest eBird results for Dolan Pond Conservat
 ion Area at https://ebird.org/hotspot/L2829294\n\nThis will be an easy wal
 k over accessible paths and boardwalk in this 9 acre conservation area.  
 Bring binoculars if you have them.  Children and beginners are welcome. 
  If the group is large\, we will split into multiple sections.  Meet near
  76 Webster Park and park around the circle (HP parking available).   In
   pouring rain\, the trip may be canceled.\n\nTrip Leaders\, who all freq
 uently bird at Dolan Pond\, are Ian Buzby\, Mike Hanley\, and Ted Kuklinsk
 i (tkuklinski@aol.com).\n\n
ATTACH;FMTTYPE=image/jpeg:https://newtonconservators.org/wp-content/upload
 s/2022/05/Cape-May-Warbler-by-Matt-Sabourin.jpg
CATEGORIES:Birding
LOCATION:Dolan Pond\, 76 Webster Park\, Newton\, MA\, 02465\, United States
GEO:42.3503631;-71.23425689999999
X-APPLE-STRUCTURED-LOCATION;VALUE=URI;X-ADDRESS=76 Webster Park\, Newton\, 
 MA\, 02465\, United States;X-APPLE-RADIUS=100;X-TITLE=Dolan Pond:geo:42.35
 03631,-71.23425689999999
END:VEVENT
BEGIN:VTIMEZONE
TZID:America/New_York
X-LIC-LOCATION:America/New_York
BEGIN:DAYLIGHT
DTSTART:20230312T030000
TZOFFSETFROM:-0500
TZOFFSETTO:-0400
TZNAME:EDT
END:DAYLIGHT
END:VTIMEZONE
END:VCALENDAR