BEGIN:VCALENDAR
VERSION:2.0
PRODID:-//wp-events-plugin.com//7.2.3.1//EN
TZID:America/New_York
X-WR-TIMEZONE:America/New_York
BEGIN:VEVENT
UID:382@newtonconservators.org
DTSTART;TZID=America/New_York:20220911T130000
DTEND;TZID=America/New_York:20220911T160000
DTSTAMP:20220823T020504Z
URL:https://newtonconservators.org/events/the-bogs-marshes-and-vernal-pool
 s-of-cutler-park/
SUMMARY:The Bogs\, Marshes\, and Vernal Pools of Cutler Park
DESCRIPTION:Did you know that one of the largest freshwater marshes in grea
 ter Boston is found at Cutler Park? The glacial deposits in the park have 
 also created vernal pools and a very interesting kettle hole bog. Join New
 ton Conservators volunteer and MassWildlife Deputy Director Jon Regosin on
  a walk to explore the wetlands of Cutler Park. We will meet in the parkin
 g lot at Kendrick Pond and walk the trail out to Powell’s Island across 
 a boardwalk through the marsh.  Please be prepared for an approximately 3
 .5 mile round trip hike. We should be able to keep our feet dry\, but we w
 ill go briefly off trail to better view the bog.
ATTACH;FMTTYPE=image/jpeg:https://newtonconservators.org/wp-content/upload
 s/2019/09/20190902_133043sm.jpg
CATEGORIES:Guided Walks
LOCATION:Cutler Park\, Kendrick Street\, Blue Heron Trail\, Needham\, MA\, 
 02494\, United States
GEO:42.294861;-71.208693
X-APPLE-STRUCTURED-LOCATION;VALUE=URI;X-ADDRESS=Kendrick Street\, Blue Hero
 n Trail\, Needham\, MA\, 02494\, United States;X-APPLE-RADIUS=100;X-TITLE=
 Cutler Park:geo:42.294861,-71.208693
END:VEVENT
BEGIN:VTIMEZONE
TZID:America/New_York
X-LIC-LOCATION:America/New_York
BEGIN:DAYLIGHT
DTSTART:20220313T030000
TZOFFSETFROM:-0500
TZOFFSETTO:-0400
TZNAME:EDT
END:DAYLIGHT
END:VTIMEZONE
END:VCALENDAR