BEGIN:VCALENDAR
VERSION:2.0
PRODID:-//wp-events-plugin.com//7.2.3.1//EN
TZID:America/New_York
X-WR-TIMEZONE:America/New_York
BEGIN:VEVENT
UID:16@newtonconservators.org
DTSTART;TZID=America/New_York:20060420T190000
DTEND;TZID=America/New_York:20060420T210000
DTSTAMP:20181108T230441Z
URL:https://newtonconservators.org/events/the-community-preservation-act-i
 n-newton-has-it-been-worth-it/
SUMMARY:The Community Preservation Act in Newton - Has It Been Worth It?
DESCRIPTION:A Panel Discussion\n\nThe Community Preservation Act (CPA) was 
 adopted by the City of Newton in 2001. Since then\, over 40 projects invol
 ving open space\, community housing\, historic preservation\, and recreati
 on have been approved. In Newton\, the CPA Fund comes from a 1% surcharge 
 on the property tax which\, to date\, has received 100% matching from the 
 state\, and whose projects have leveraged additional funding sources. As w
 e near the 5th year since its passage in Newton\, there has been increasin
 g debate on the value of the program. The Newton Conservators Spring Lectu
 re this year will be devoted to a review of the projects that have been im
 plemented with the aid of the CPA Fund. This presentation will provide a r
 eview the history of the CPA in Newton\, the process by which projects go 
 from proposal to implementation\, and the distribution of by type\, area o
 f the city\, and funds allocated. \n\nMembers of the CPA Committee\, the P
 lanning Department\, members of aldermanic Committees with CPA oversight\,
  and project planners themselves will be provide their perspective on the 
 program. There will be opportunities for questions on the CPA process and 
 its future. The bulk of the program will be devoted to a pictorial overvie
 w of CPA projects that have been funded in the years since inception in Ne
 wton. In its first four years\, over 30 acres of open space have been pres
 erved including the last remaining farm in the city and a large tract that
  connects existing conservation areas. Over 80 units of community housing 
 have been funded\, including a Newton Housing Authority apartment building
  in Waban and the land for the first Habitat for Humanity project in the w
 estern suburbs. Our city's three historic burying grounds are finally rece
 iving badly needed restoration work and long needed recreational improveme
 nts for many of our parks and facilities such as Gath Pool are underway. \
 n\nThe free Newton Conservators Lecture Series \, now in its fifth year\, 
 is cosponsored by the Newton Conservators and the Newton Free Library. \n\
 n
ATTACH;FMTTYPE=image/jpeg:https://newtonconservators.org/wp-content/upload
 s/2018/11/26.jpg
CATEGORIES:Lectures
LOCATION:Newton Free Library\, 330 Homer Street\, Newton Centre\, MA\, Unit
 ed States
GEO:42.3358776;-71.2080211
X-APPLE-STRUCTURED-LOCATION;VALUE=URI;X-ADDRESS=330 Homer Street\, Newton C
 entre\, MA\, United States;X-APPLE-RADIUS=100;X-TITLE=Newton Free Library:
 geo:42.3358776,-71.2080211
END:VEVENT
BEGIN:VTIMEZONE
TZID:America/New_York
X-LIC-LOCATION:America/New_York
BEGIN:DAYLIGHT
DTSTART:20060402T030000
TZOFFSETFROM:-0500
TZOFFSETTO:-0400
TZNAME:EDT
END:DAYLIGHT
END:VTIMEZONE
END:VCALENDAR