BEGIN:VCALENDAR
VERSION:2.0
PRODID:-//wp-events-plugin.com//7.2.3.1//EN
TZID:America/New_York
X-WR-TIMEZONE:America/New_York
BEGIN:VEVENT
UID:288@newtonconservators.org
DTSTART;TZID=America/New_York:20210316T000000
DTEND;TZID=America/New_York:20210316T000000
DTSTAMP:20210303T012639Z
URL:https://newtonconservators.org/events/vote-in-newton-special-election-
 for-vacant-wards-1-2-at-large-councilor-positions/
SUMMARY:Vote in Newton Special Election!
DESCRIPTION:Newton Special Election: March 16\nThere will be a special muni
 cipal election on March 16th to fill currently vacant City Councilor posit
 ions – Ward 1 at-large\, and Ward 2 at-large.\n\n \nVoting by Mail\nThe
  deadline to apply for an Early mail-in ballot is Wednesday\, March 10\, 
 a week before the election. This is the deadline established by the Secre
 tary of State for Early mail-in ballots.\n\nDownload a fillable Mail-In Ba
 llot Application:\n\n2021-Vote-by-Mail-Application fillable\n\nPrint out\,
  sign and mail your application to:\n\nCity Clerk\n1000 Commonwealth Avenu
 e\nNewton\, MA  02459\n\nor\n\nDrop it in one of the Drop Boxes at City H
 all.\n\nThe deadline to return your Vote By Mail Ballot is no later than t
 he close of polls on Election Day (March 16th\, 8:00 PM)\n\nReturn your b
 allot by depositing it in one of the Drop Boxes at City Hall or mail it to
  City Clerk/Elections at 1000 Commonwealth Avenue\, Newton MA 02459\n\n&nb
 sp\;\nIn-Person Early Voting\nAccording to the Election Commission\, the 
 state did not approve Early in-person voting but there will be a week of i
 n-person absentee voting at City Hall from Monday\, March 8 through Friday
 \, March 12\, 8:30 a.m. to 5:00 p.m.\n\nAbsentee Ballots\n\nAbsentee ballo
 ts will be available ahead of the March 16 election\, so if you have any f
 amily members or friends who will be away in college or traveling\, please
  remind them to apply for an absentee ballot.\n\nAbsentee Ballot Request F
 orms can be found here.\n\nElection Day In-Person Voting\n\nIf you choose
  to vote in person on Election Day\, double-check your voting location b
 ecause some have changed.\n\n 	List of Polling Locations 2021\n 	City Wide
  Polling Locations Map 2021\n 	What is my Ward and Precinct? Please veri
 fy your Ward and Precinct prior to going to the Polling Location\, especi
 ally if you are new to the community\n 	You may also use the searchable m
 ap to find your Ward and Precinct.\n\nInformation for Ward 1 Candidates:\
 nJohn Oliver – Candidate\, Ward 1 Councilor At-large\nWebsite: johnoliv
 er4newton.org\nemail: john@johnoliver4newton.org\ncell: 248-219-3858\ncam
 paign manager: team@johnoliver4newton.org\nMadeline Ranalli – Candidate
 \, Ward 1\, Councilor At-large\nWebsite:  https://www.ranallifornewton.c
 om/contact\nemail: info@ranallifornewton.com\n617-833-7965\n\n&nbsp\;\nIn
 formation for Ward 2 Candidates:\nBryan Barash\, Candidate\, Ward 2\, Coun
 cilor At-large\nWebsite: http://www.bryanbarash.com/\nContact: Claudia Bo
 wman\, claudia@bryanbarash.com\nTwitter: @bryanbarash\nFacebook: facebo
 ok.com/bryanbarashnewton\nInstagram: bryanbarashnewton\n\nTarik Lucas\, Ca
 ndidate\, Ward 2 Councilor At-large\nwebsite: tariklucas.org\nemail: tar
 iklucas19@gmail.com\ncell: 617-910-7470\nCampaign Manager: chloe@teamtari
 k.com\n\nDavid Micley\, Candidate\, Ward 2\, Councilor At-large\nWebsite:
   https://dmicley.wixsite.com/fornewton\nContact:  micleyfornewton@gma
 il.com\n\n&nbsp\;\nThe special election will take place on Tuesday\, Marc
 h 16\, 2021! \n&nbsp\;
ATTACH;FMTTYPE=image/jpeg:https://newtonconservators.org/wp-content/upload
 s/2021/03/Vote-Your-Vote-Counts.jpg
CATEGORIES:Special Events
END:VEVENT
BEGIN:VTIMEZONE
TZID:America/New_York
X-LIC-LOCATION:America/New_York
BEGIN:DAYLIGHT
DTSTART:20210314T030000
TZOFFSETFROM:-0500
TZOFFSETTO:-0400
TZNAME:EDT
END:DAYLIGHT
END:VTIMEZONE
END:VCALENDAR