BEGIN:VCALENDAR
VERSION:2.0
PRODID:-//wp-events-plugin.com//7.2.3.1//EN
TZID:America/New_York
X-WR-TIMEZONE:America/New_York
BEGIN:VEVENT
UID:627@newtonconservators.org
DTSTART;TZID=America/New_York:20260305T190000
DTEND;TZID=America/New_York:20260305T203000
DTSTAMP:20260118T170503Z
URL:https://newtonconservators.org/events/webinar-vernal-pools-and-their-s
 pecial-ecology/
SUMMARY:Webinar: Vernal Pools and Their Special Ecology
DESCRIPTION:Seasonal ponds\, known as vernal pools\, are full of life and c
 an be found throughout our area.  Newton has several\, including Bare Pon
 d in Webster Woods.  Join Newton Conservators' Barbara Bates to discover 
 how these pools form\, their unique ecology and the life stories of the in
 vertebrates and amphibians who inhabit these pools.  See fairy shrimp\, 
 salamanders\, wood frogs and many more.\n\nBarbara is a teacher\, naturali
 st\, and Newton Conservators' board member.\n\n Sign up: https://shorturl.
 at/MGhZd
ATTACH;FMTTYPE=image/jpeg:https://newtonconservators.org/wp-content/upload
 s/2025/07/image.png
END:VEVENT
BEGIN:VTIMEZONE
TZID:America/New_York
X-LIC-LOCATION:America/New_York
BEGIN:STANDARD
DTSTART:20251102T010000
TZOFFSETFROM:-0400
TZOFFSETTO:-0500
TZNAME:EST
END:STANDARD
END:VTIMEZONE
END:VCALENDAR