BEGIN:VCALENDAR
VERSION:2.0
PRODID:-//wp-events-plugin.com//7.2.3.1//EN
TZID:America/New_York
X-WR-TIMEZONE:America/New_York
BEGIN:VEVENT
UID:344@newtonconservators.org
DTSTART;TZID=America/New_York:20220423T130000
DTEND;TZID=America/New_York:20220423T160000
DTSTAMP:20220423T005516Z
URL:https://newtonconservators.org/events/webster-woods-mini-tours-from-th
 e-shops-at-chestnut-hill/
SUMMARY:Webster Woods Mini-Walks from The Shops at Chestnut Hill
DESCRIPTION:\nAs part of Earth Day Weekend\, come visit the Newton Conserva
 tors information table at the Shops at Chestnut Hill.   We will be locat
 ed in the main mall court (Center Court by the statue on Level One)  and 
 will have our popular trail guides and almanacs available as well as other
  information on our work preserving open space in Newton for over 60 years
 .  Look for our table which will have a green tablecloth.  Come say hell
 o to a few of our board members and learn how you can help keep Newton\, t
 he Garden City\, even greener!\n&nbsp\;\n\nA highlight will be a series of
  three 30 minute round trip Mini-Walks to Webster Woods led by naturalist 
 Barbara Bates.   If you are in the Mall\, you will be escorted from our 
 table for a short walk across the parking lot to the entrance to Webster W
 ood.  The Mini-Walks\, lasting under 45 minutes\, will be starting at 1:3
 0\, 2:30\, and 3:30 pm through the spring woods to a high stone outcroppin
 g and a large pond where special vernal pool creatures like yellow-spotted
  salamanders and wood frogs breed. Shoes\, not sandals\, advised.   If y
 ou are coming just for the Mini-walks\, meet at the corner of the rear par
 king lot for The Shops at Chestnut Hill at 1:30\, 2:30\, or 3:30 pm to be 
 joined by the folks from the Mall.  Wear shoes\, not sandals.  For info 
 or questions\, please contact Ted Kuklinski (tkuklinski@aol.com).\n\n\n
ATTACH;FMTTYPE=image/jpeg:https://newtonconservators.org/wp-content/upload
 s/2021/09/BrodyPhotoBarePond-copy.jpg
LOCATION:The Shops at Chestnut Hill - Rear Parking Lot\, 404 Hammond Pond P
 arkway\, Newton\, United States
GEO:42.323922;-71.176683
X-APPLE-STRUCTURED-LOCATION;VALUE=URI;X-ADDRESS=404 Hammond Pond Parkway\, 
 Newton\, United States;X-APPLE-RADIUS=100;X-TITLE=The Shops at Chestnut Hi
 ll - Rear Parking Lot:geo:42.323922,-71.176683
END:VEVENT
BEGIN:VTIMEZONE
TZID:America/New_York
X-LIC-LOCATION:America/New_York
BEGIN:DAYLIGHT
DTSTART:20220313T030000
TZOFFSETFROM:-0500
TZOFFSETTO:-0400
TZNAME:EDT
END:DAYLIGHT
END:VTIMEZONE
END:VCALENDAR