BEGIN:VCALENDAR
VERSION:2.0
PRODID:-//wp-events-plugin.com//7.2.3.1//EN
TZID:America/New_York
X-WR-TIMEZONE:America/New_York
BEGIN:VEVENT
UID:647@newtonconservators.org
DTSTART;TZID=America/New_York:20260124T100000
DTEND;TZID=America/New_York:20260124T110000
DTSTAMP:20260122T160335Z
URL:https://newtonconservators.org/events/winterfest-2026-winter-walk-in-c
 old-spring-park/
SUMMARY:THIS EVENT HAS BEEN CANCELLED DUE TO FREEZING TEMPS!          Winte
 rFEST 2026 - Winter Walk in Cold Spring Park
DESCRIPTION:Barbara Bates and Alan Nogee\, Directors at the Newton Conserva
 tors\, will each lead a walk in Cold Spring Park on Saturday\, Jan. 24\, f
 rom 10 to 11 am.  The winter event is cosponsored by Spark Newton\, Newto
 n Conservators and Friends of Cold Spring Park.  Interested participants 
 should meet at the kiosk at the left end of the park's Beacon Street entra
 nce.\n\nSaturday morning’s Winter Walk is the perfect way to kick off a 
 cozy winter morning. Start out with frosty-fun with an  Olaf meet‑and
 ‑greet. Then hit the trails for a scavenger hunt that turns an ordinary 
 stroll  into a mini adventure. It’s an easy\, joy‑filled way to explo
 re nature\, laugh with neighbors\, and soak in the season’s snowy magic.
   Visit  https://sparknewton.org/happenings/winterfest-2026/ for all the
  WinterFEST 2026 events.\n\nTo register for the walk\, which is optional\,
  and learn more about the event click on the link below:\n\nhttps://sparkn
 ewton.org/event/winterfest-2026-winter-walk/
ATTACH;FMTTYPE=image/jpeg:https://newtonconservators.org/wp-content/upload
 s/2026/01/20260124-Winter-Walk.jpg
CATEGORIES:Guided Walks
LOCATION:Cold Spring Park\, 1200 Beacon Street\, Newton\, MA\, 02461\, Unit
 ed States
GEO:42.331113;-71.213272
X-APPLE-STRUCTURED-LOCATION;VALUE=URI;X-ADDRESS=1200 Beacon Street\, Newton
 \, MA\, 02461\, United States;X-APPLE-RADIUS=100;X-TITLE=Cold Spring Park:
 geo:42.331113,-71.213272
END:VEVENT
BEGIN:VTIMEZONE
TZID:America/New_York
X-LIC-LOCATION:America/New_York
BEGIN:STANDARD
DTSTART:20251102T010000
TZOFFSETFROM:-0400
TZOFFSETTO:-0500
TZNAME:EST
END:STANDARD
END:VTIMEZONE
END:VCALENDAR