BEGIN:VCALENDAR
VERSION:2.0
PRODID:-//wp-events-plugin.com//7.2.3.1//EN
TZID:America/New_York
X-WR-TIMEZONE:America/New_York
BEGIN:VEVENT
UID:260@newtonconservators.org
DTSTART;TZID=America/New_York:20201202T190000
DTEND;TZID=America/New_York:20201202T210000
DTSTAMP:20201202T224928Z
URL:https://newtonconservators.org/events/zoning-redesign-community-engage
 ment-outreach/
SUMMARY:Zoning Redesign Community Engagement Outreach
DESCRIPTION:Zoning Redesign Community Engagement Outreach\n(from the Newton
  Planning Department)\nWednesday\, December 2\, 7 to 9 pm\nThursday\, Dece
 mber 3\, 12 to 2 pm\n\n\nWe are reaching out to invite you to community en
 gagement events and efforts for Zoning Redesign. We are focused on (1) upd
 ating Newton community members and on (2) getting feedback on what questio
 ns the City Council should focus on in 2021.\n\nPlease join us for a forum
  that includes a presentation\, ample time for small group discussion\, an
 d opportunities for you to tell us what questions should be explored and h
 ow to best communicate with you in the coming year. These will take place 
 on December 2nd from 7-9pm and December 3rd from 12-2pm EST. Please RSVP h
 ere.\n\nPlease see additional information for these two events:\n(1) Here 
 are the Zoom links and information for the two events (these will\nalso be
  posted on the Zoning Redesign website the day before):\n\nWednesday\, Dec
 ember 2\, 7-9pm\n\nZoom link\nMeeting ID: 891 4601 6653\nPasscode: 544508\
 n\nThursday\, December 3\, 12-2pm\n Zoom link\nMeeting ID: 857 7799 5852\
 nPasscode: 169464\n\n(2) Here are the prompts for our break-out discussion
  groups\, in case you want to reflect on these questions ahead of time:\n\
 n 	What do you want to better understand about Zoning Redesign?\n 	Which o
 f the Zoning Redesign goals feel most important to you?\n 	And why? (Remem
 ber\, we’re planning for the next 50 years and beyond!)\n 	What currentl
 y excites you the most about Zoning Redesign?\n 	Or conversely\, what worr
 ies you?\n 	How would you like to be engaged for Zoning Redesign in 2021?\
 n\n(3) Lastly\, we will offer the option to break-out room attendees to an
 swer the prompts through an interactive Google Document called a 'JAM Boar
 d\,' alongside the live conversation. You can familiarize yourself with th
 is software by watching this YouTube tutorial RSVP\, sign up for updates\,
  and access info at www.newtonma.gov/zoningredsesign. For questions or con
 cerns\, email zoningredesign@newtonma.gov.
ATTACH;FMTTYPE=image/jpeg:https://newtonconservators.org/wp-content/upload
 s/2020/12/Zoning.jpg
END:VEVENT
BEGIN:VTIMEZONE
TZID:America/New_York
X-LIC-LOCATION:America/New_York
BEGIN:STANDARD
DTSTART:20201101T010000
TZOFFSETFROM:-0400
TZOFFSETTO:-0500
TZNAME:EST
END:STANDARD
END:VTIMEZONE
END:VCALENDAR